BEGIN:VCALENDAR
VERSION:2.0
PRODID:-//Uudenmaan lintuharrastajien oma yhdistys - ECPv6.15.20//NONSGML v1.0//EN
CALSCALE:GREGORIAN
METHOD:PUBLISH
X-WR-CALNAME:Uudenmaan lintuharrastajien oma yhdistys
X-ORIGINAL-URL:https://tringa.fi
X-WR-CALDESC:Events for Uudenmaan lintuharrastajien oma yhdistys
REFRESH-INTERVAL;VALUE=DURATION:PT1H
X-Robots-Tag:noindex
X-PUBLISHED-TTL:PT1H
BEGIN:VTIMEZONE
TZID:UTC
BEGIN:STANDARD
TZOFFSETFROM:+0000
TZOFFSETTO:+0000
TZNAME:UTC
DTSTART:20210101T000000
END:STANDARD
END:VTIMEZONE
BEGIN:VEVENT
DTSTART;TZID=UTC:20220820T100000
DTEND;TZID=UTC:20220820T160000
DTSTAMP:20260424T104637
CREATED:20220502T090645Z
LAST-MODIFIED:20220818T091859Z
UID:16397-1660989600-1661011200@tringa.fi
SUMMARY:BirdLife Suomen lintumessut
DESCRIPTION:BirdLife Suomen lintumessut järjestetään Helsingin Viikissä lauantaina 20. elokuuta\, klo 10-16. Tapahtuma on kaikille avoin ja maksuton. \nTringa on mukana messuilla ja tarjoaa tapahtuman osallistujille mm. opastettuja lintukävelyitä. Lintukävelyt kestävät noin 75 minuuttia ja niille ilmoittaudutaan etukäteen Tringan messupisteellä. Lintukävelyiden lähtöajat: klo 10.45\, 11.15\, 11.45\, 12.45\, 13.15\, 13.45 ja 14.45.\nLapsille ja lapsiperheille järjestetään lisäksi kaksi linturetkeä\, joille ilmoittaudutaan lasten teltalla. Lasten retket lähtevät messualueelta klo 10.30 ja 13.30. \nKatso myös messupäivän aamuna Vanhankaupunginlahdelle järjestettävät pidemmät linturetket\, klo 7-10 ja klo 8-10.30. \nTringan suojelusihteeri Juho Leppänen esiintyy ohjelmalavalla klo 12. Lintumessujen koko ohjelma löytyy täältä: www.birdlife.fi/tapahtumat/lintumessut/ \nEdellisten\, elokuussa 2019 järjestettyjen\, lintumessujen kuvia ja tunnelmia löytyy Tringan sivuilta: Lintumessut 2019
URL:https://tringa.fi/tapahtuma/birdlife-suomen-lintumessut/
LOCATION:Gardenia\, Viikki\, Koetilantie 1\, Helsinki\, Suomi
CATEGORIES:Lasten ja nuorten tapahtumat,Muu opastus,Muu tapahtuma
END:VEVENT
BEGIN:VEVENT
DTSTART;TZID=UTC:20220827T090000
DTEND;TZID=UTC:20220827T160000
DTSTAMP:20260424T104637
CREATED:20220822T194236Z
LAST-MODIFIED:20220824T071814Z
UID:18870-1661590800-1661616000@tringa.fi
SUMMARY:Tringan talkoot Helsingin Vanhankaupunginlahdella
DESCRIPTION:Tringan talkoissa Helsingin Vanhankaupunginlahdella ennallistetaan umpeenkasvavia rantaniittyjä ja parannetaan kosteikkolintujen elinympäristöä. Tehtävälistalla on mm. ruovikon niittoa Hakalan lintutornin edustalla. Mikäli merivesi on korkealla\, talkoot siirtyvät Purolahden katselulavan edustalle. Osallistuminen ei edellytä aikaisempaa talkookokemusta\, tervetuloa mukaan! \nEnnakkoilmoittautuminen on toivottavaa. Ilmoittaudu mukaan täällä: talkoiden verkkoilmoittautuminen \nKokoontuminen: lauantaina 27.8. klo 9.00 Hakalanniemen lintutornin luona. Tarkistathan mahdolliset muutokset tältä sivulta talkoita edeltävänä päivänä. Kaikille ilmoittautuneille ilmoitetaan mahdollisista aikataulu- tai muista muutoksista sähköpostitse. Hakalanniemen aloituspiste (portti josta pääsee rantaniitylle) karttapaikalla: Hakalanniemi \nOhjeita: Työskentelemme lauantaina 27.8. klo 9 alkaen\, töitä jatketaan sää- ja työtilanteen mukaan noin klo 16 asti. Paikalla ei tarvitse olla koko päivää\, jo parinkin tunnin työpanos on arvokas\, ja mukaan on mahdollista liittyä myös myöhemmin päivällä. Aikaisempaa talkookokemusta ei tarvita\, kaikille löytyy sopivia työtehtäviä ja uudet talkoolaiset opastetaan töihin. Säävaraus: kovalla sateella talkoista luovutaan. \nOta mukaan: Iso juomapullo\, työhanskat\, kumisaappaat. Helteelläkin pue pikemmin pitkälahkeiset housut kuin shortsit. Jos sinulla on työvälineitä omasta takaa\, kannattaa ottaa mukaan (esim. viikate\, raivaussaha). Aurinkoisella säällä auringolta suojautuminen on tärkeää\, joten varaa mukaan: lakki/lippis tms. päähine\, aurinkovoidetta ja/tai suojaavat vaatteet. Kiikaritkin kannattaa ottaa mukaan\, talkoiden yhteydessä on aiempina vuosina tehty välillä yllättäviäkin lintuhavaintoja (esim. kuningaskalastaja elokuussa 2020). \nPaikan päällä: Tringa järjestää paikalle juotavaa ja pientä talkooevästä. Tringan puolesta paikalta löytyy talkootyövälineitä sekä työhanskoja. Talkoilla on tapaturmavakuutus\, joka kattaa mukaan ilmoittautuneet vapaaehtoiset. \nTiedustelut: toimisto@tringa.fi \nUutinen viime vuoden talkoista löytyy tästä: Tringan talkoot Vanhankaupunginlahdella elokuussa 2021
URL:https://tringa.fi/tapahtuma/tringan-talkoot-helsingin-vanhankaupunginlahdella/
CATEGORIES:Muu tapahtuma
END:VEVENT
END:VCALENDAR