BEGIN:VCALENDAR
VERSION:2.0
PRODID:-//Uudenmaan lintuharrastajien oma yhdistys - ECPv6.15.20//NONSGML v1.0//EN
CALSCALE:GREGORIAN
METHOD:PUBLISH
X-WR-CALNAME:Uudenmaan lintuharrastajien oma yhdistys
X-ORIGINAL-URL:https://tringa.fi
X-WR-CALDESC:Events for Uudenmaan lintuharrastajien oma yhdistys
REFRESH-INTERVAL;VALUE=DURATION:PT1H
X-Robots-Tag:noindex
X-PUBLISHED-TTL:PT1H
BEGIN:VTIMEZONE
TZID:UTC
BEGIN:STANDARD
TZOFFSETFROM:+0000
TZOFFSETTO:+0000
TZNAME:UTC
DTSTART:20210101T000000
END:STANDARD
END:VTIMEZONE
BEGIN:VEVENT
DTSTART;TZID=UTC:20220407T170000
DTEND;TZID=UTC:20220407T180000
DTSTAMP:20260424T185314
CREATED:20220612T104142Z
LAST-MODIFIED:20220612T104142Z
UID:16679-1649350800-1649354400@tringa.fi
SUMMARY:Harrastajatutkinto
DESCRIPTION:Tringan harrastajatutkinto järjestetään maaliskuun kuukausikokouksen yhteydessä Helsingissä Aalto-yliopisto Töölön tiloissa (Runeberginkatu 14-16\, sali 310). Tutkinto pidetään ennen yhdistyksen kevätkokousta\, klo 17 alkaen. Omat kirjoitusvälineet (kynä\, kumi) mukaan\, kiikaritkin kannattaa ottaa. Tutkinto on maksuton. Salissa on rajallinen määrä paikkoja\, joten sen vuoksi ennakkoilmoittautuminen! \nIlmoittautuminen: verkkoilmoittautuminen (klikkaa tästä) \nLisätietoja harrastajatutkinnosta: tringa.fi/harrastajatutkinto/ \nTiedustelut: toimisto(ät)tringa.fi
URL:https://tringa.fi/tapahtuma/harrastajatutkinto/
LOCATION:Aalto-yliopisto\, Töölö\, Aalto-yliopisto\, Helsinki\, Finland
CATEGORIES:Muu tapahtuma
END:VEVENT
END:VCALENDAR