BEGIN:VCALENDAR
VERSION:2.0
PRODID:-//Uudenmaan lintuharrastajien oma yhdistys - ECPv6.15.20//NONSGML v1.0//EN
CALSCALE:GREGORIAN
METHOD:PUBLISH
X-ORIGINAL-URL:https://tringa.fi
X-WR-CALDESC:Events for Uudenmaan lintuharrastajien oma yhdistys
REFRESH-INTERVAL;VALUE=DURATION:PT1H
X-Robots-Tag:noindex
X-PUBLISHED-TTL:PT1H
BEGIN:VTIMEZONE
TZID:UTC
BEGIN:STANDARD
TZOFFSETFROM:+0000
TZOFFSETTO:+0000
TZNAME:UTC
DTSTART:20210101T000000
END:STANDARD
END:VTIMEZONE
BEGIN:VEVENT
DTSTART;TZID=UTC:20220322T180000
DTEND;TZID=UTC:20220322T193000
DTSTAMP:20260424T202446
CREATED:20220612T102511Z
LAST-MODIFIED:20220612T102511Z
UID:16654-1647972000-1647977400@tringa.fi
SUMMARY:Tringan kaavakoulutus
DESCRIPTION:Tringan kaavakoulutus -etätilaisuus järjestetään tiistaina 22.3. klo 18.00-19.30. \nTilaisuudessa tutustutaan kaavoitukseen liittyviin yleisiin asioihin\, tarkastellaan mistä voi löytää tietoa kaavahankkeista ja käydään läpi keskeisiä seikkoja\, joita tulee huomioida kaavojen linnustovaikutuksia arvioitaessa. Kaavakoulutus sopii kaikille asiasta kiinnostuneille ja erityisesti kaikille niille\, jotka haluavat osallistua Tringan suojelutoimintaan. Koulutuksen vetäjänä suojelusihteeri Juho Leppänen. \nHinta: maksuton \nIlmoittautuminen: 21.3. mennessä sähköisen verkkoilmoittautumisen kautta (klikkaa tästä) \nTiedustelut: suojelusihteeri(ät)tringa.fi
URL:https://tringa.fi/tapahtuma/tringan-kaavakoulutus/
CATEGORIES:Muu tapahtuma
END:VEVENT
END:VCALENDAR