BEGIN:VCALENDAR
VERSION:2.0
PRODID:-//Uudenmaan lintuharrastajien oma yhdistys - ECPv6.15.20//NONSGML v1.0//EN
CALSCALE:GREGORIAN
METHOD:PUBLISH
X-ORIGINAL-URL:https://tringa.fi
X-WR-CALDESC:Events for Uudenmaan lintuharrastajien oma yhdistys
REFRESH-INTERVAL;VALUE=DURATION:PT1H
X-Robots-Tag:noindex
X-PUBLISHED-TTL:PT1H
BEGIN:VTIMEZONE
TZID:Europe/Helsinki
BEGIN:DAYLIGHT
TZOFFSETFROM:+0200
TZOFFSETTO:+0300
TZNAME:EEST
DTSTART:20250330T010000
END:DAYLIGHT
BEGIN:STANDARD
TZOFFSETFROM:+0300
TZOFFSETTO:+0200
TZNAME:EET
DTSTART:20251026T010000
END:STANDARD
BEGIN:DAYLIGHT
TZOFFSETFROM:+0200
TZOFFSETTO:+0300
TZNAME:EEST
DTSTART:20260329T010000
END:DAYLIGHT
BEGIN:STANDARD
TZOFFSETFROM:+0300
TZOFFSETTO:+0200
TZNAME:EET
DTSTART:20261025T010000
END:STANDARD
BEGIN:DAYLIGHT
TZOFFSETFROM:+0200
TZOFFSETTO:+0300
TZNAME:EEST
DTSTART:20270328T010000
END:DAYLIGHT
BEGIN:STANDARD
TZOFFSETFROM:+0300
TZOFFSETTO:+0200
TZNAME:EET
DTSTART:20271031T010000
END:STANDARD
END:VTIMEZONE
BEGIN:VEVENT
DTSTART;TZID=Europe/Helsinki:20260425T100000
DTEND;TZID=Europe/Helsinki:20260425T160000
DTSTAMP:20260421T173014
CREATED:20260208T180504Z
LAST-MODIFIED:20260416T203513Z
UID:32294-1777111200-1777132800@tringa.fi
SUMMARY:Suomenojan lintuharrastuspäivä PERUTTU
DESCRIPTION:TAPAHTUMA ON PERUTTU \nSuomenojan lintuharrastuspäivä -yleisötapahtuma on jouduttu perumaan. Tringan lintuopastukset kuitenkin toteutetaan alkuperäisen aikataulun mukaisesti: \nLasten linturetki 25.4. klo 10.30-11.30 (lapsiperheille)\nKävelyretki 25.4. klo 11.00-12.30 (kaikenikäisille linnuista kiinnostuneille)
URL:https://tringa.fi/tapahtuma/suomenojan-lintuharrastuspaiva-3/
LOCATION:Suomenoja/eteläinen lintutorni\, Suomenoja/eteläinen lintutorni\, Espoo\, Finland
CATEGORIES:Lasten ja nuorten tapahtumat,Muu opastus,Muu tapahtuma,Retket
END:VEVENT
BEGIN:VEVENT
DTSTART;TZID=Europe/Helsinki:20260425T100000
DTEND;TZID=Europe/Helsinki:20260425T180000
DTSTAMP:20260421T173014
CREATED:20260318T005733Z
LAST-MODIFIED:20260318T011807Z
UID:32804-1777111200-1777140000@tringa.fi
SUMMARY:Porkkalan lintuviikko: lintulauantai Porkkalan kansakoululla
DESCRIPTION:Tervetuloa viettämään lintulauantaita Porkkalan kansakoululle! \nPäivämäärä: lauantai 25.4.2026 klo 10-18\nPaikka: Porkkalan kansakoulu. Parkkeeraus Lähteelän parkkipaikalle (Läntinen Källvikintie 10\, Kirkkonummi)\, josta opasteet Porkkalan kansakoululle (Porkkalantie 1826\, Kirkkonummi). Kansakoululle ei voi parkkeerata.\nHinta: maksuton\, ei ennakkoilmoittautumista\, ei ikärajaa.\n\nOhjelma: \n\nPinna Café ja avoimet ovet Porkkalan kansakoululla klo 10–18\nOpastettu luontopolku LÄHTEELÄSSÄ klo 10 ja 11\nÄäntele kuin lintu -työpaja Porkkalan kansakoululla klo 13–15\n\nPinna Café ja avoimet ovet Porkkalan kansakoululla klo 10–18 \nPop up -kahvila on auki Porkkalan vanhassa kansakoulussa. Tervetuloa tutustumaan historiallisen rakennuksen isoon luokkasaliin\, koulun lähimaisemaan\, ja tietysti havainnoimaan lintuja. \nOpastettu luontopolku LÄHTEELÄSSÄ klo 10 ja 11 \nLintuviikon oppaat tarjoavat opastetun lintu- ja luontopolun Porkkalan Lähteelässä. Lähdöt 10.00 ja 11.00 parkkipaikalta. Kävely kestää n. 30–45 min. \nÄäntele kuin lintu -työpaja Porkkalan kansakoululla klo 13–15 \nTyöpajassa pääset oppimaan\, kuinka muodostaa äänelläsi Suomessa pesivien ja esiintyvien lintujen soidinkutsuja\, laulantaa ja varoitusääniä. Työpajassa opit mm. allin\, haahkan\, kuikan\, eri lokkien ja pöllöjen sekä kiirunan ääntelyä. Luvassa kumeutta\, ärinää\, kuulautta\, puputusta\, animaatiomaisuutta ja nasaaliutta. Työpaja on kaikille avoin ja se on hauska elämys erilaisiin tapoihin käyttää ääntä. \nTyöpajaan osallistuttuasi olet lämpimästi tervetullut mukaan Lintukuoro-performanssiin\, joka esitetään klo 14.30 Porkkalan kansakoululla. Esitys on demonstraatio työpajan sisällöstä\, eikä siitä tarvitse ottaa mitään suorituspaineita. Esityksessä osallistujat imitoivat ohjaajan perässä eri lintujen ääniä. Esityksessä käytetään lintusilmikoita. \nTervetuloa heittäytymään lintujen maailmaan! \nTyöpajan ohjaa Tuuletar ja Kajos -yhtyeistä tunnettu palkittu laulaja-säveltäjä-laulukouluttaja Sini Koskelainen\, jota kiehtoo mm. suomalais-karjalainen kansanperinne\, linnut ja ihmisäänen tutkiminen. \nsinikoskelainen.com\nFACEBOOK\nINSTAGRAM\n@sini.koskelainen \nLisätietoja: porkkalanlintuviikko.fi/ohjelma-2026/
URL:https://tringa.fi/tapahtuma/porkkalan-lintuviikko-lintulauantai-porkkalan-kansakoululla/
LOCATION:Porkkalan vanha kansakoulu\, Porkkalantie 1826\, Kirkkonummi\, 02480\, Suomi
CATEGORIES:Muu opastus,Muu tapahtuma
END:VEVENT
END:VCALENDAR