BEGIN:VCALENDAR
VERSION:2.0
PRODID:-//Uudenmaan lintuharrastajien oma yhdistys - ECPv6.15.20//NONSGML v1.0//EN
CALSCALE:GREGORIAN
METHOD:PUBLISH
X-WR-CALNAME:Uudenmaan lintuharrastajien oma yhdistys
X-ORIGINAL-URL:https://tringa.fi
X-WR-CALDESC:Events for Uudenmaan lintuharrastajien oma yhdistys
REFRESH-INTERVAL;VALUE=DURATION:PT1H
X-Robots-Tag:noindex
X-PUBLISHED-TTL:PT1H
BEGIN:VTIMEZONE
TZID:Europe/Helsinki
BEGIN:DAYLIGHT
TZOFFSETFROM:+0200
TZOFFSETTO:+0300
TZNAME:EEST
DTSTART:20240331T010000
END:DAYLIGHT
BEGIN:STANDARD
TZOFFSETFROM:+0300
TZOFFSETTO:+0200
TZNAME:EET
DTSTART:20241027T010000
END:STANDARD
BEGIN:DAYLIGHT
TZOFFSETFROM:+0200
TZOFFSETTO:+0300
TZNAME:EEST
DTSTART:20250330T010000
END:DAYLIGHT
BEGIN:STANDARD
TZOFFSETFROM:+0300
TZOFFSETTO:+0200
TZNAME:EET
DTSTART:20251026T010000
END:STANDARD
BEGIN:DAYLIGHT
TZOFFSETFROM:+0200
TZOFFSETTO:+0300
TZNAME:EEST
DTSTART:20260329T010000
END:DAYLIGHT
BEGIN:STANDARD
TZOFFSETFROM:+0300
TZOFFSETTO:+0200
TZNAME:EET
DTSTART:20261025T010000
END:STANDARD
END:VTIMEZONE
BEGIN:VEVENT
DTSTART;TZID=Europe/Helsinki:20251004T080000
DTEND;TZID=Europe/Helsinki:20251004T140000
DTSTAMP:20260422T005925
CREATED:20250607T142600Z
LAST-MODIFIED:20250607T142600Z
UID:30371-1759564800-1759586400@tringa.fi
SUMMARY:EBW-muutonseurantaa Herttoniemessä Majavatien kalliolla
DESCRIPTION:Lokakuun alku on vilkasta muuttoaikaa monille lintulajeille ja vaelluslintujenkin näkemiseen on hyvät mahdollisuudet. Syysmuuttoa tarkkaillaan opastetusti Herttoniemessä Majavatien kalliolta\, jolta on hyvät näkymät Vanhankaupunginlahdelle. Paikalle voi tulla koko ajaksi tai omien aikataulujen puitteissa. Tapahtuma on osa Euroopan laajuista EuroBirdWatch- yhteismuutontarkkailua. \nSäävaraus. Tarkista tapahtumatiedot opastusta edeltävänä iltana mahdollisten viime hetken muutosten varalta. \nKenelle: Tapahtuma on avoin kaikille \nTapahtumapaikka: Herttoniemi/Majavatien pohjoispään pohjoispuolen kallio. \nTapahtumapaikka kartalla \nTapahtuma-aika: Oppaat paikalla klo 8-14. Paikalle voi saapua oman aikataulun mukaan. \nIlmoittautuminen: Ei ilmoittautumista \nTiedustelut: opastukset@tringa.fi
URL:https://tringa.fi/tapahtuma/ebw-muutonseurantaa-herttoniemessa-majavatien-kalliolla-2/
CATEGORIES:Muu opastus,Muu tapahtuma
END:VEVENT
END:VCALENDAR