BEGIN:VCALENDAR
VERSION:2.0
PRODID:-//Uudenmaan lintuharrastajien oma yhdistys - ECPv6.15.20//NONSGML v1.0//EN
CALSCALE:GREGORIAN
METHOD:PUBLISH
X-ORIGINAL-URL:https://tringa.fi
X-WR-CALDESC:Events for Uudenmaan lintuharrastajien oma yhdistys
REFRESH-INTERVAL;VALUE=DURATION:PT1H
X-Robots-Tag:noindex
X-PUBLISHED-TTL:PT1H
BEGIN:VTIMEZONE
TZID:Europe/Helsinki
BEGIN:DAYLIGHT
TZOFFSETFROM:+0200
TZOFFSETTO:+0300
TZNAME:EEST
DTSTART:20240331T010000
END:DAYLIGHT
BEGIN:STANDARD
TZOFFSETFROM:+0300
TZOFFSETTO:+0200
TZNAME:EET
DTSTART:20241027T010000
END:STANDARD
BEGIN:DAYLIGHT
TZOFFSETFROM:+0200
TZOFFSETTO:+0300
TZNAME:EEST
DTSTART:20250330T010000
END:DAYLIGHT
BEGIN:STANDARD
TZOFFSETFROM:+0300
TZOFFSETTO:+0200
TZNAME:EET
DTSTART:20251026T010000
END:STANDARD
BEGIN:DAYLIGHT
TZOFFSETFROM:+0200
TZOFFSETTO:+0300
TZNAME:EEST
DTSTART:20260329T010000
END:DAYLIGHT
BEGIN:STANDARD
TZOFFSETFROM:+0300
TZOFFSETTO:+0200
TZNAME:EET
DTSTART:20261025T010000
END:STANDARD
END:VTIMEZONE
BEGIN:VEVENT
DTSTART;TZID=Europe/Helsinki:20250426T100000
DTEND;TZID=Europe/Helsinki:20250426T160000
DTSTAMP:20260422T125325
CREATED:20250410T112753Z
LAST-MODIFIED:20250410T114151Z
UID:29820-1745661600-1745683200@tringa.fi
SUMMARY:Porkkalan lintuviikko: lintuopastus Porkkalan Haahka-lavalla
DESCRIPTION:Lintuviikon päätapahtuma: Haahka-lavapäivystys.\nRetki on osa Porkkalan lintuviikon ohjelmaa. \nAika: la 26.4. klo 10-16\nPaikka: Porkkalan Haahka-lintulava (Omsatuntie 77\, Kirkkonummi)\nMaksuton\, ei ennakkoilmoittautumista. Esteetön.\nPorkkalanniemen marttojen pop-up kahvila 11–15. \nHaluatko tietää lisää linnuista tai aloittaa lintuharrastuksen? Vai oletko jo harrastaja ja haluat tavata muita harrastajia? Tule vierailemaan Porkkalan Haahka-lintulavalla. Päivystämme tuttuun tapaan lintulavalla la klo 10–16. Lintuviikon oppaat näyttävät havaitsemiaan lajeja ja kertovat linnuista ja harrastamisesta. Lintulava on esteetön. \nKatso tapahtuman tarkemmat tiedot: porkkalanlintuviikko.fi/#haahkalava-paivystys
URL:https://tringa.fi/tapahtuma/porkkalan-lintuviikko-lintuopastus-porkkalan-haahka-lavalla/
CATEGORIES:Muu opastus
END:VEVENT
END:VCALENDAR