BEGIN:VCALENDAR
VERSION:2.0
PRODID:-//Uudenmaan lintuharrastajien oma yhdistys - ECPv6.15.20//NONSGML v1.0//EN
CALSCALE:GREGORIAN
METHOD:PUBLISH
X-ORIGINAL-URL:https://tringa.fi
X-WR-CALDESC:Events for Uudenmaan lintuharrastajien oma yhdistys
REFRESH-INTERVAL;VALUE=DURATION:PT1H
X-Robots-Tag:noindex
X-PUBLISHED-TTL:PT1H
BEGIN:VTIMEZONE
TZID:Europe/Helsinki
BEGIN:DAYLIGHT
TZOFFSETFROM:+0200
TZOFFSETTO:+0300
TZNAME:EEST
DTSTART:20240331T010000
END:DAYLIGHT
BEGIN:STANDARD
TZOFFSETFROM:+0300
TZOFFSETTO:+0200
TZNAME:EET
DTSTART:20241027T010000
END:STANDARD
BEGIN:DAYLIGHT
TZOFFSETFROM:+0200
TZOFFSETTO:+0300
TZNAME:EEST
DTSTART:20250330T010000
END:DAYLIGHT
BEGIN:STANDARD
TZOFFSETFROM:+0300
TZOFFSETTO:+0200
TZNAME:EET
DTSTART:20251026T010000
END:STANDARD
BEGIN:DAYLIGHT
TZOFFSETFROM:+0200
TZOFFSETTO:+0300
TZNAME:EEST
DTSTART:20260329T010000
END:DAYLIGHT
BEGIN:STANDARD
TZOFFSETFROM:+0300
TZOFFSETTO:+0200
TZNAME:EET
DTSTART:20261025T010000
END:STANDARD
END:VTIMEZONE
BEGIN:VEVENT
DTSTART;TZID=Europe/Helsinki:20250406T100000
DTEND;TZID=Europe/Helsinki:20250406T130000
DTSTAMP:20260422T090849
CREATED:20250305T165319Z
LAST-MODIFIED:20250404T055601Z
UID:29207-1743933600-1743944400@tringa.fi
SUMMARY:Lintuopastus (Viikin pelloilla) SIIRTYNYT HAKALAN KATSELULAVALLE
DESCRIPTION:Lintuopastuksissa Tringan opas päivystää ilmoitetulla paikalla ja auttaa lintujen löytämisessä ja tunnistamisessa ja näyttää lintuja kaukoputkesta. Lintuopastukset soveltuvat hyvin aloitteleville lintuharrastajille. Oppaalta voi kysyä linnuista\, lintuharrastuksesta ja Tringan toiminnasta. \nEtu-Viikin pellot (tunnetaan myös koetilan peltoina) sijaitsevat Viikintien eteläpuolella. Pellot keräävät runsaasti muuttolintuja niin keväällä kuin syksylläkin. Ensimmäiset muuttolinnut saapuvat keväisin heti\, kun lumihangella ilmestyvät ensimmäiset pälvipaikat. Kevätmuuttoa onkin tarkkailtu pelloilla jo vuosikymmeniä. Pellot ovat myös tärkeä ruokailualue monille Vanhankaupunginlahdella levähtäville ja pesiville lajeille. \nTapahtuma on avoin kaikille. Ei ilmoittautumista. \nViikin Koetilantieltä on opastuspaikalle matkaa noin 1 km.\n\n\nOpastuspaikka kartalla \nLintuopastuksessa on säävaraus. Katso mahdolliset viime hetken muutokset Tringan tapahtumakalenterista. \nPÄIVITYS 4.4. OPASTUS ON LINTUTILANTEEN VUOKSI SIIRTYNYT PIDETTÄVÄKSI HAKALAN ISOLLA KATSELULAVALLA. \nHAKALAN OPASTUSPAIKKA KARTALLA \nTringalla on jäsenilleen käytössä kaksi yhdistyskaukoputkea ja viidet kiikarit. Tringan jäsenet voivat lainata kaukoputkia ja kiikareita maksutta kerralla enintään kolmeksi päiväksi. Näitä voi myös varata etukäteen. Toinen kaukoputkista sijaitsee Helsingin Viikissä Lintuvarusteessa (Koetilantie 1 B 5) ja toinen Ruoholahdessa Foto Fennicassa (Itämerenkatu 16). Kiikarit sijaitsevat Lintuvarusteessa ja Foto Fennicassa. Kaukoputkien ja kiikareiden varaustilannetta voi tiedustella soittamalla Lintuvarusteeseen tai Foto Fennicaan tai kysymällä paikan päällä. Kaukoputkea tai kiikareita lainatessa kannattaa varautua esittämään henkilöllisyystodistus. Lainakaukoputkea ja -kiikareita tulee kohdella erityisellä varovaisuudella\, ja mahdollisista vioista kertoa heti niitä palauttaessa.
URL:https://tringa.fi/tapahtuma/lintuopastus-viikin-pelloilla-2/
CATEGORIES:Muu opastus
END:VEVENT
BEGIN:VEVENT
DTSTART;TZID=Europe/Helsinki:20250420T130000
DTEND;TZID=Europe/Helsinki:20250420T160000
DTSTAMP:20260422T090849
CREATED:20250306T173039Z
LAST-MODIFIED:20250420T155029Z
UID:29211-1745154000-1745164800@tringa.fi
SUMMARY:Lintuopastus Haltialan pelloilla SIIRTYNYT MAANANTAILLE 21.4.
DESCRIPTION:Lintuopastuksissa Tringan opas päivystää ilmoitetulla paikalla ja auttaa lintujen löytämisessä ja tunnistamisessa ja näyttää lintuja kaukoputkesta. Lintuopastukset soveltuvat hyvin aloitteleville lintuharrastajille. Oppaalta voi kysyä linnuista\, lintuharrastuksesta ja Tringan toiminnasta. \nHaltialan-Niskalan alue Helsingin Keskuspuiston pohjoispäässä on monipuolinen retkeilyalue tie- ja polkuverkostoineen. Retkellä tarkkaillaan Kellarimäentieltä peltoalueiden kevätlintuja ja lintumuuttoa. Opastuspaikka on Kellarimäentien keskivaiheilla. \n \nOpastuspaikka kartalla \nTapahtuma on avoin kaikille. Ei ilmoittautumista. \nLintuopastuksessa on säävaraus. Katso mahdolliset viime hetken muutokset Tringan verkkosivujen tapahtumakalenterista. \nPÄIVITYS 19.4. OPASTUS ON SIIRTYNYT MAANANTAILLE KLO 13-16. \nPÄIVITYS 20.4. Maanantain sääennuste kehittyi aiempaa sateisempaan suuntaan. Tästä syystä opaspäivystys korvautuu kaikille avoimella kävelyretkellä Haltiala-Ruutinkoski-Niskalan arboretum-Haltiala. Lähtö klo 13\, kesto sää- ja lintutilanteen mukaan 1\,5-2\,5 tuntia. Lähtö  Kuninkaantammentieltä Haltialan tilan rakennusten länsipuolen pysäköintialueelle johtavan tien alkupäästä. Kulkureitit ovat paikoin sateen jäljiltä mutaiset. Kävelyä kertyy 2-3 km. \nLähtöpaikka kartalla\n\nRetkelle ei tarvitse ilmoittautua.\n\nTringalla on jäsenilleen käytössä kolme yhdistyskaukoputkea ja viidet kiikarit. Tringan jäsenet voivat lainata kaukoputkia ja kiikareita maksutta kerralla enintään kolmeksi päiväksi. Näitä voi myös varata etukäteen. Kaksi kaukoputkista sijaitsee Helsingin Viikissä Lintuvarusteessa (Koetilantie 1 B 5) ja yksi Ruoholahdessa Foto Fennicassa (Itämerenkatu 16). Kiikarit sijaitsevat Lintuvarusteessa ja Foto Fennicassa. Kaukoputkien ja kiikareiden varaustilannetta voi tiedustella soittamalla Lintuvarusteeseen tai Foto Fennicaan tai kysymällä paikan päällä. Kaukoputkea tai kiikareita lainatessa kannattaa varautua esittämään henkilöllisyystodistus. Lainakaukoputkea ja -kiikareita tulee kohdella erityisellä varovaisuudella\, ja mahdollisista vioista kertoa heti niitä palauttaessa. \nTiedustelut: opastuksetÄTtringa.fi
URL:https://tringa.fi/tapahtuma/lintuopastus-haltialan-pelloilla/
CATEGORIES:Muu opastus
END:VEVENT
BEGIN:VEVENT
DTSTART;TZID=Europe/Helsinki:20250421T120000
DTEND;TZID=Europe/Helsinki:20250421T150000
DTSTAMP:20260422T090849
CREATED:20250410T105752Z
LAST-MODIFIED:20250410T105752Z
UID:29809-1745236800-1745247600@tringa.fi
SUMMARY:Porkkalan lintuviikko: Queer bird walk
DESCRIPTION:Queer bird walk in Porkkalanniemi  – Monikielinen queer-linturetki Porkkalanniemessä.\nRetki on osa Porkkalan lintuviikon ohjelmaa. \nAika: ma 21.4. klo 12-15\nIlmoittautuminen: viimeistään 11.4.\nRetki on maksuton.\nKatso tarkemmat retkitiedot ja ilmoittautumisohjeet: porkkalanlintuviikko.fi/#queer-bird-walk \n \n 
URL:https://tringa.fi/tapahtuma/porkkalan-lintuviikko-queer-bird-walk/
CATEGORIES:Muu opastus,Muu tapahtuma,Retket
END:VEVENT
BEGIN:VEVENT
DTSTART;TZID=Europe/Helsinki:20250422T180000
DTEND;TZID=Europe/Helsinki:20250422T200000
DTSTAMP:20260422T090849
CREATED:20250410T110315Z
LAST-MODIFIED:20250410T110938Z
UID:29811-1745344800-1745352000@tringa.fi
SUMMARY:Porkkalan lintuviikko: kävelyretki Masalanpurolle
DESCRIPTION:Linnut ja metsä -näyttelyn avajaiset ja lähiretki Masalanpurolle.\nRetki on osa Porkkalan lintuviikon ohjelmaa. \nAika: ti 22.4. klo 18-20\nPaikka: Masalan kirjasto (Puolukkamäki 7\, Kirkkonummi)\nMaksuton\, ei ennakkoilmoittautumista. \nOhjelma:\n18.00–19.00 Näyttelyn avajaiset\n19.00–20.00 Lähiretki Masalanpurolle. Lähtö Masalan kirjaston edestä. \nKatso tapahtuman tarkemmat tiedot: porkkalanlintuviikko.fi/#linnut-ja-metsa
URL:https://tringa.fi/tapahtuma/porkkalan-lintuviikko-kavelyretki-masalanpurolle/
CATEGORIES:Muu opastus,Muu tapahtuma,Retket
END:VEVENT
BEGIN:VEVENT
DTSTART;TZID=Europe/Helsinki:20250426T100000
DTEND;TZID=Europe/Helsinki:20250426T160000
DTSTAMP:20260422T090849
CREATED:20250410T112753Z
LAST-MODIFIED:20250410T114151Z
UID:29820-1745661600-1745683200@tringa.fi
SUMMARY:Porkkalan lintuviikko: lintuopastus Porkkalan Haahka-lavalla
DESCRIPTION:Lintuviikon päätapahtuma: Haahka-lavapäivystys.\nRetki on osa Porkkalan lintuviikon ohjelmaa. \nAika: la 26.4. klo 10-16\nPaikka: Porkkalan Haahka-lintulava (Omsatuntie 77\, Kirkkonummi)\nMaksuton\, ei ennakkoilmoittautumista. Esteetön.\nPorkkalanniemen marttojen pop-up kahvila 11–15. \nHaluatko tietää lisää linnuista tai aloittaa lintuharrastuksen? Vai oletko jo harrastaja ja haluat tavata muita harrastajia? Tule vierailemaan Porkkalan Haahka-lintulavalla. Päivystämme tuttuun tapaan lintulavalla la klo 10–16. Lintuviikon oppaat näyttävät havaitsemiaan lajeja ja kertovat linnuista ja harrastamisesta. Lintulava on esteetön. \nKatso tapahtuman tarkemmat tiedot: porkkalanlintuviikko.fi/#haahkalava-paivystys
URL:https://tringa.fi/tapahtuma/porkkalan-lintuviikko-lintuopastus-porkkalan-haahka-lavalla/
CATEGORIES:Muu opastus
END:VEVENT
END:VCALENDAR