BEGIN:VCALENDAR
VERSION:2.0
PRODID:-//Uudenmaan lintuharrastajien oma yhdistys - ECPv6.15.20//NONSGML v1.0//EN
CALSCALE:GREGORIAN
METHOD:PUBLISH
X-WR-CALNAME:Uudenmaan lintuharrastajien oma yhdistys
X-ORIGINAL-URL:https://tringa.fi
X-WR-CALDESC:Events for Uudenmaan lintuharrastajien oma yhdistys
REFRESH-INTERVAL;VALUE=DURATION:PT1H
X-Robots-Tag:noindex
X-PUBLISHED-TTL:PT1H
BEGIN:VTIMEZONE
TZID:Europe/Helsinki
BEGIN:DAYLIGHT
TZOFFSETFROM:+0200
TZOFFSETTO:+0300
TZNAME:EEST
DTSTART:20220327T010000
END:DAYLIGHT
BEGIN:STANDARD
TZOFFSETFROM:+0300
TZOFFSETTO:+0200
TZNAME:EET
DTSTART:20221030T010000
END:STANDARD
BEGIN:DAYLIGHT
TZOFFSETFROM:+0200
TZOFFSETTO:+0300
TZNAME:EEST
DTSTART:20230326T010000
END:DAYLIGHT
BEGIN:STANDARD
TZOFFSETFROM:+0300
TZOFFSETTO:+0200
TZNAME:EET
DTSTART:20231029T010000
END:STANDARD
BEGIN:DAYLIGHT
TZOFFSETFROM:+0200
TZOFFSETTO:+0300
TZNAME:EEST
DTSTART:20240331T010000
END:DAYLIGHT
BEGIN:STANDARD
TZOFFSETFROM:+0300
TZOFFSETTO:+0200
TZNAME:EET
DTSTART:20241027T010000
END:STANDARD
END:VTIMEZONE
BEGIN:VEVENT
DTSTART;TZID=Europe/Helsinki:20230401T080000
DTEND;TZID=Europe/Helsinki:20230401T120000
DTSTAMP:20260422T164703
CREATED:20230308T054905Z
LAST-MODIFIED:20230308T054905Z
UID:21091-1680336000-1680350400@tringa.fi
SUMMARY:Lullulan kaakkurikarkelot
DESCRIPTION:Seurataan kevätmuuttoa ja paikallisia muuttolintuja aamupäivän ajan. Toivottavasti pääsemme myös kuulemaan kaakkureiden konserttia. \nPaikka: Pohja/Gumnäsinniemen kärki \nTapahtumapaikka kartalla \nTiedustelut: Kimmo Virta ko.virta@gmail.com \nTringan paikallisjaoston\, Raaseporin lintuharrastajat Lullulan järjestämä tapahtuma. Lullulan tapahtumista tiedotetaan tarkemmin Lullulan sähköpostilistalla\, jolle voi liittyä lähettämällä liittymispyynnön osoitteeseen lullulanhallitus@gmail.com
URL:https://tringa.fi/tapahtuma/lullulan-kaakkurikarkelot/
CATEGORIES:Lullulan tapahtuma,Muu opastus
END:VEVENT
BEGIN:VEVENT
DTSTART;TZID=Europe/Helsinki:20230415T070000
DTEND;TZID=Europe/Helsinki:20230415T120000
DTSTAMP:20260422T164703
CREATED:20230412T182320Z
LAST-MODIFIED:20230412T182320Z
UID:21619-1681542000-1681560000@tringa.fi
SUMMARY:Lullulan yhteishavainnointiaamupäivä
DESCRIPTION:Tule mukaan seuraamaan lintujen kevätmuuttoa Påminneen. Paikalla on oppaita jo ennen kello seitsemää ja havainnointia jatkuu ainakin klo 12.00 asti. Kevätmuutto on parhaimmillaan ja on mahdollisuus nähdä kurkien massoja\, haukkojen ja etenkin kuovien ja vesilintujen muuttoa ja tietysti eri pikkulintulajeja. Påminnen huipulla on aina kylmä ja kuraista eli säähän sopivat vaatteet ja omat eväät. \nHuipulle voi kiivetä joko suoraan parkkipaikalta tai tulla takakautta Brunkomin rantatietä pitkin varapaikoitusalueelle\, josta on lyhyempi matka huipulle. \nTapahtumapaikka kartalla. \nTiedustelut: Kimmo Virta\, puh. +358 40 7272412
URL:https://tringa.fi/tapahtuma/lullulan-yhteishavainnointiaamupaiva/
CATEGORIES:Lullulan tapahtuma,Muu opastus
END:VEVENT
END:VCALENDAR