BEGIN:VCALENDAR
VERSION:2.0
PRODID:-//Uudenmaan lintuharrastajien oma yhdistys - ECPv6.15.20//NONSGML v1.0//EN
CALSCALE:GREGORIAN
METHOD:PUBLISH
X-ORIGINAL-URL:https://tringa.fi
X-WR-CALDESC:Events for Uudenmaan lintuharrastajien oma yhdistys
REFRESH-INTERVAL;VALUE=DURATION:PT1H
X-Robots-Tag:noindex
X-PUBLISHED-TTL:PT1H
BEGIN:VTIMEZONE
TZID:Europe/Helsinki
BEGIN:DAYLIGHT
TZOFFSETFROM:+0200
TZOFFSETTO:+0300
TZNAME:EEST
DTSTART:20240331T010000
END:DAYLIGHT
BEGIN:STANDARD
TZOFFSETFROM:+0300
TZOFFSETTO:+0200
TZNAME:EET
DTSTART:20241027T010000
END:STANDARD
BEGIN:DAYLIGHT
TZOFFSETFROM:+0200
TZOFFSETTO:+0300
TZNAME:EEST
DTSTART:20250330T010000
END:DAYLIGHT
BEGIN:STANDARD
TZOFFSETFROM:+0300
TZOFFSETTO:+0200
TZNAME:EET
DTSTART:20251026T010000
END:STANDARD
BEGIN:DAYLIGHT
TZOFFSETFROM:+0200
TZOFFSETTO:+0300
TZNAME:EEST
DTSTART:20260329T010000
END:DAYLIGHT
BEGIN:STANDARD
TZOFFSETFROM:+0300
TZOFFSETTO:+0200
TZNAME:EET
DTSTART:20261025T010000
END:STANDARD
END:VTIMEZONE
BEGIN:VEVENT
DTSTART;TZID=Europe/Helsinki:20250828T173000
DTEND;TZID=Europe/Helsinki:20250828T193000
DTSTAMP:20260422T021128
CREATED:20250812T061758Z
LAST-MODIFIED:20250812T061758Z
UID:30693-1756402200-1756409400@tringa.fi
SUMMARY:Itämeren iltarastit Lapinlahdessa
DESCRIPTION:Itämeri-päivän iltarasteilla Lapinlahdessa on monenlaista toimintaa. Linturastilla tähyillään vesilintuja ja opitaan lintujen elintavoista. Tapahtuman järjestävät yhteistyössä Helsy\, Uudenmaan piirin Itämeri-ryhmä\, Lapinlahden Lähde\, Natur och Miljö\, Anarkistimartat ja Tringa. Koko ohjelma Helsingin Luonnonsuojeluyhdistyksen verkkosivuilla: \nItämeren Iltarastit \n \nKenelle: Tapahtuma on avoin kaikille\, ohjelmaa on koko perheelle. Tapahtuma on maksuton.  \nLinturastin oppaana: Hannu Varkki \nTapahtumapaikka:  Fahlanderin puistokuja/Lapinlahden Lähde\, laiturialue ja puisto \nTapahtumapaikka kartalla \nEi ilmoittautumista
URL:https://tringa.fi/tapahtuma/itameren-iltarastit-lapinlahdessa/
CATEGORIES:Lasten ja nuorten tapahtumat,Muu opastus
END:VEVENT
END:VCALENDAR