BEGIN:VCALENDAR
VERSION:2.0
PRODID:-//Uudenmaan lintuharrastajien oma yhdistys - ECPv6.15.20//NONSGML v1.0//EN
CALSCALE:GREGORIAN
METHOD:PUBLISH
X-ORIGINAL-URL:https://tringa.fi
X-WR-CALDESC:Events for Uudenmaan lintuharrastajien oma yhdistys
REFRESH-INTERVAL;VALUE=DURATION:PT1H
X-Robots-Tag:noindex
X-PUBLISHED-TTL:PT1H
BEGIN:VTIMEZONE
TZID:Europe/Helsinki
BEGIN:DAYLIGHT
TZOFFSETFROM:+0200
TZOFFSETTO:+0300
TZNAME:EEST
DTSTART:20240331T010000
END:DAYLIGHT
BEGIN:STANDARD
TZOFFSETFROM:+0300
TZOFFSETTO:+0200
TZNAME:EET
DTSTART:20241027T010000
END:STANDARD
BEGIN:DAYLIGHT
TZOFFSETFROM:+0200
TZOFFSETTO:+0300
TZNAME:EEST
DTSTART:20250330T010000
END:DAYLIGHT
BEGIN:STANDARD
TZOFFSETFROM:+0300
TZOFFSETTO:+0200
TZNAME:EET
DTSTART:20251026T010000
END:STANDARD
BEGIN:DAYLIGHT
TZOFFSETFROM:+0200
TZOFFSETTO:+0300
TZNAME:EEST
DTSTART:20260329T010000
END:DAYLIGHT
BEGIN:STANDARD
TZOFFSETFROM:+0300
TZOFFSETTO:+0200
TZNAME:EET
DTSTART:20261025T010000
END:STANDARD
END:VTIMEZONE
BEGIN:VEVENT
DTSTART;TZID=Europe/Helsinki:20250508T180000
DTEND;TZID=Europe/Helsinki:20250508T200000
DTSTAMP:20260422T053331
CREATED:20250125T170724Z
LAST-MODIFIED:20250209T191510Z
UID:28441-1746727200-1746734400@tringa.fi
SUMMARY:Lintuopastus Lammassaaren katselulavalla
DESCRIPTION:Lintuopastuksissa Tringan opas päivystää ilmoitetulla paikalla ja auttaa lintujen löytämisessä ja tunnistamisessa ja näyttää lintuja kaukoputkesta. Lintuopastukset soveltuvat hyvin aloitteleville lintuharrastajille. Oppaalta voi kysyä linnuista\, lintuharrastuksesta ja Tringan toiminnasta. \nViikin-Vanhankaupunginlahden alue on yksi Suomen tunnetuimpia ja arvokkaimpia lintualueita\, joka houkuttelee lintuharrastajia retkeilemään vuoden ympäri. Alueen arvoa lisää entisestään sen sijainti Helsingin maantieteellisessä keskustassa. Alueella on kattava lintutornien ja katselulavojen verkosto. Liikkuminen alueella sujuu hyväkuntoisia kävelyteitä pitkin kävellen tai polkupyörällä. Ruovikkoalueita on hoidettu aktiivisesti viime vuosina yhteistyössä kaupungin ja Tringan kanssa\, mikä on lisännyt alueella pesivien ja levähtävien lintujen määrää. \nAlueen linnustoa seurataan säännöllisesti ja siellä tavataan säännöllisesti myös harvinaisempia lintuja ahkeran retkeilyn ansiosta. \nLammassaaren katselulava sijaitsee Vanhankaupunginlahden Lammassaaressa. Kulku Katariina Saksilaisen kadun eteläpäästä Pornaistenniemen kautta pitkospuureittiä Lammassaareen. Saareen tultuasi seuraa opasteita. Matkaa on noin 1\,5 km. Lintulavalle on esteetön reitti. Pornaistenniemessä on  lyhyt mäki\, mutta avustajan kanssa pyörätuolilla kulku onnistuu. \nLammassaaren katselulava kartalla. \nTapahtuma on avoin kaikille. Ei ilmoittautumista. \nLintuopastuksessa on säävaraus. Katso mahdolliset viime hetken muutokset Tringan verkkosivujen tapahtumakalenterista. Mahdollisesta peruuntumisesta ilmoitetaan viimeistään klo 16. \nTringalla on jäsenilleen käytössä kolme yhdistyskaukoputkea ja viidet kiikarit. Tringan jäsenet voivat lainata kaukoputkia ja kiikareita maksutta kerralla enintään kolmeksi päiväksi. Näitä voi myös varata etukäteen. Kaksi kaukoputkista sijaitsee Helsingin Viikissä Lintuvarusteessa (Koetilantie 1 B 5) ja yksi Ruoholahdessa Foto Fennicassa (Itämerenkatu 16). Kiikarit sijaitsevat Lintuvarusteessa ja Foto Fennicassa. Kaukoputkien ja kiikareiden varaustilannetta voi tiedustella soittamalla Lintuvarusteeseen tai Foto Fennicaan tai kysymällä paikan päällä. Kaukoputkea tai kiikareita lainatessa kannattaa varautua esittämään henkilöllisyystodistus. Lainakaukoputkea ja -kiikareita tulee kohdella erityisellä varovaisuudella\, ja mahdollisista vioista kertoa heti niitä palauttaessa. \nTiedustelut: opastuksetÄTtringa.fi
URL:https://tringa.fi/tapahtuma/opaspaivystys-lammassaaren-katselulavalla/
CATEGORIES:Lasten ja nuorten tapahtumat,Torniopastus
END:VEVENT
BEGIN:VEVENT
DTSTART;VALUE=DATE:20250509
DTEND;VALUE=DATE:20250512
DTSTAMP:20260422T053331
CREATED:20250316T115739Z
LAST-MODIFIED:20250317T130324Z
UID:29349-1746748800-1747007999@tringa.fi
SUMMARY:Tyttöjen retki Hangon lintuasemalle
DESCRIPTION:Hei\, oletko noin 12-25-vuotias linnuista kiinnostunut tyttö? Tringa järjestää viikonloppuretken yhdelle Tringan alueen parhaista lintupaikoista\, Hangon lintuasemalle! Tällä viikonloppuretkellä tutustutaan lintuaseman toimintaan\, kuten vakioituun muutonseurantaan\, paikallisten lintujen laskemiseen ja muihin lintuaseman rutiineihin. Toukokuun alkupuoli on kevään parasta lintuaikaa. Suomen mantereen eteläkärjessä sijaitsevan Hangon lintuaseman\, eli Haliaksen\, ohittaa kevään aikana kymmenettuhannet vesilinnut\, tuhannet kurjet ja pikkulinnut… \nHinta: Retki on maksuton. Tringa tarjoaa osallistujille matkat (Hki – Hanko – Hki)\, ruuat sekä majoituksen lintuasemalla. Helsingistä lähdetään kohti Hankoa perjantaina alkuillasta\, takaisin Helsinkiin palataan sunnuntaina iltaan mennessä. Hankoon on mahdollista saapua myös omalla kyydillä tai hypätä mukaan matkan varrelta.\nRetkelle mahtuu mukaan 4-5 nuorta. Etusijalla ovat ne\, jotka eivät ole aikaisemmin vierailleet lintuasemalla vierai. \nOpas: Susanna Viukari \nIlmoittautuminen: 1.5. mennessä verkkolomakkeella (klikkaa tästä!) \nTiedustelut: toimisto@tringa.fi \nRetkikertomus vuonna 2019 järjestetyltä vastaavalta retkeltä: RETKI HANGON LINTUASEMALLE 12.–14.4.2019
URL:https://tringa.fi/tapahtuma/tyttojen-retki-hangon-lintuasemalle-3/
LOCATION:Hangon lintuasema\, Tulliniemi\, Hanko\, Finland
CATEGORIES:Lasten ja nuorten tapahtumat,Nuorten linturyhmä,Retket
END:VEVENT
END:VCALENDAR