BEGIN:VCALENDAR
VERSION:2.0
PRODID:-//Uudenmaan lintuharrastajien oma yhdistys - ECPv6.15.20//NONSGML v1.0//EN
CALSCALE:GREGORIAN
METHOD:PUBLISH
X-WR-CALNAME:Uudenmaan lintuharrastajien oma yhdistys
X-ORIGINAL-URL:https://tringa.fi
X-WR-CALDESC:Events for Uudenmaan lintuharrastajien oma yhdistys
REFRESH-INTERVAL;VALUE=DURATION:PT1H
X-Robots-Tag:noindex
X-PUBLISHED-TTL:PT1H
BEGIN:VTIMEZONE
TZID:Europe/Helsinki
BEGIN:DAYLIGHT
TZOFFSETFROM:+0200
TZOFFSETTO:+0300
TZNAME:EEST
DTSTART:20220327T010000
END:DAYLIGHT
BEGIN:STANDARD
TZOFFSETFROM:+0300
TZOFFSETTO:+0200
TZNAME:EET
DTSTART:20221030T010000
END:STANDARD
BEGIN:DAYLIGHT
TZOFFSETFROM:+0200
TZOFFSETTO:+0300
TZNAME:EEST
DTSTART:20230326T010000
END:DAYLIGHT
BEGIN:STANDARD
TZOFFSETFROM:+0300
TZOFFSETTO:+0200
TZNAME:EET
DTSTART:20231029T010000
END:STANDARD
BEGIN:DAYLIGHT
TZOFFSETFROM:+0200
TZOFFSETTO:+0300
TZNAME:EEST
DTSTART:20240331T010000
END:DAYLIGHT
BEGIN:STANDARD
TZOFFSETFROM:+0300
TZOFFSETTO:+0200
TZNAME:EET
DTSTART:20241027T010000
END:STANDARD
END:VTIMEZONE
BEGIN:VEVENT
DTSTART;TZID=Europe/Helsinki:20231005T180000
DTEND;TZID=Europe/Helsinki:20231005T200000
DTSTAMP:20260421T072947
CREATED:20230821T185135Z
LAST-MODIFIED:20230920T133751Z
UID:22894-1696528800-1696536000@tringa.fi
SUMMARY:Lokakuun lintuilta - Mitä tiedämme kehrääjän muutosta?
DESCRIPTION:Tervetuloa Tringan lokakuun lintuiltaan! Lintuilta järjestetään Tieteiden talossa Helsingissä (Kirkkokatu 6\, sali 104) torstaina 5. lokakuuta klo 18-20. Lokakuun lintuillan ohjelmassa on Juha Honkalan esitelmä Mitä tiedämme kehrääjän muutosta?\n \nJuha Honkala työskentelee museomestarina Luonnontieteellisen keskusmuseon Linnustonseurannassa. Vapaa-ajallaan hän on ahkera rengastaja ja viime vuosina hän on panostanut etenkin kehrääjien rengastamiseen ja lisätiedon tuottamiseen lajin muutosta. Kehrääjän muuttotutkimushanketta Juha oli käynnistämässä vuonna 2018\, ja siitä lähtien joukkorahoituksella hankituilla GPS-paikantimilla on selvitetty Uudellamaalla pesivien kehrääjien muuttoreittejä ja talvialueita. Tringan lintuillassa on luvassa muun muassa uusimpia muuttotutkimuksen tuloksia!\n \nKehrääjäkoiras reviirillään. Kuva: Markku Huhta-Koivisto \nTringan lintuillat ovat kaikille avoimia tilaisuuksia\, tervetuloa! \nTiedustelut: toimisto(ät)tringa.fi
URL:https://tringa.fi/tapahtuma/lokakuun-lintuilta-mita-tiedamme-kehraajan-muutosta/
CATEGORIES:Esitelmät,Kokoukset
END:VEVENT
END:VCALENDAR