BEGIN:VCALENDAR
VERSION:2.0
PRODID:-//Uudenmaan lintuharrastajien oma yhdistys - ECPv6.15.20//NONSGML v1.0//EN
CALSCALE:GREGORIAN
METHOD:PUBLISH
X-WR-CALNAME:Uudenmaan lintuharrastajien oma yhdistys
X-ORIGINAL-URL:https://tringa.fi
X-WR-CALDESC:Events for Uudenmaan lintuharrastajien oma yhdistys
REFRESH-INTERVAL;VALUE=DURATION:PT1H
X-Robots-Tag:noindex
X-PUBLISHED-TTL:PT1H
BEGIN:VTIMEZONE
TZID:UTC
BEGIN:STANDARD
TZOFFSETFROM:+0000
TZOFFSETTO:+0000
TZNAME:UTC
DTSTART:20210101T000000
END:STANDARD
END:VTIMEZONE
BEGIN:VEVENT
DTSTART;TZID=UTC:20221201T180000
DTEND;TZID=UTC:20221201T200000
DTSTAMP:20260422T041948
CREATED:20221122T133604Z
LAST-MODIFIED:20221122T133604Z
UID:19397-1669917600-1669924800@tringa.fi
SUMMARY:Joulukuun kuukausikokous
DESCRIPTION:Tringan joulukuun kuukausikokous pidetään to 1.12. klo 18-20 Tieteiden talon (Kirkkokatu 5\, Hki) salissa 104.\n\nOhjelmasta vastaa Timo Janhonen kuvaesityksellään “Jangtse-joella vesilintuja laskemassa”. Luvassa on retkikertomus matkasta laskemaan talvehtivia vesi- ja rantalintuja Kiinaan\, Jangtse-joen alajuoksun tulvatasangolle tammikuussa 2020. \nTringan kuukausikokouksiin on vapaa pääsy\, tervetuloa! \nJoutsenhanhia (Anser cygnoides)\, kuva: Timo Janhonen
URL:https://tringa.fi/tapahtuma/joulukuun-kuukausikokous/
LOCATION:Tieteiden talo\, Kirkkokatu 6\, Helsinki\, 00170\, Suomi
CATEGORIES:Esitelmät,Kokoukset
END:VEVENT
END:VCALENDAR