BEGIN:VCALENDAR
VERSION:2.0
PRODID:-//Uudenmaan lintuharrastajien oma yhdistys - ECPv6.15.20//NONSGML v1.0//EN
CALSCALE:GREGORIAN
METHOD:PUBLISH
X-WR-CALNAME:Uudenmaan lintuharrastajien oma yhdistys
X-ORIGINAL-URL:https://tringa.fi
X-WR-CALDESC:Events for Uudenmaan lintuharrastajien oma yhdistys
REFRESH-INTERVAL;VALUE=DURATION:PT1H
X-Robots-Tag:noindex
X-PUBLISHED-TTL:PT1H
BEGIN:VTIMEZONE
TZID:Europe/Helsinki
BEGIN:DAYLIGHT
TZOFFSETFROM:+0200
TZOFFSETTO:+0300
TZNAME:EEST
DTSTART:20220327T010000
END:DAYLIGHT
BEGIN:STANDARD
TZOFFSETFROM:+0300
TZOFFSETTO:+0200
TZNAME:EET
DTSTART:20221030T010000
END:STANDARD
BEGIN:DAYLIGHT
TZOFFSETFROM:+0200
TZOFFSETTO:+0300
TZNAME:EEST
DTSTART:20230326T010000
END:DAYLIGHT
BEGIN:STANDARD
TZOFFSETFROM:+0300
TZOFFSETTO:+0200
TZNAME:EET
DTSTART:20231029T010000
END:STANDARD
BEGIN:DAYLIGHT
TZOFFSETFROM:+0200
TZOFFSETTO:+0300
TZNAME:EEST
DTSTART:20240331T010000
END:DAYLIGHT
BEGIN:STANDARD
TZOFFSETFROM:+0300
TZOFFSETTO:+0200
TZNAME:EET
DTSTART:20241027T010000
END:STANDARD
END:VTIMEZONE
BEGIN:VEVENT
DTSTART;TZID=Europe/Helsinki:20230907T180000
DTEND;TZID=Europe/Helsinki:20230907T200000
DTSTAMP:20260421T072702
CREATED:20230821T151006Z
LAST-MODIFIED:20230827T190827Z
UID:22843-1694109600-1694116800@tringa.fi
SUMMARY:Syyskuun lintuilta - Rytikerttusten toinen vuosisata Suomessa
DESCRIPTION:Tringan syyskausi käynnistyy torstaina 7. syyskuuta Tieteiden talossa Helsingissä (Kirkkokatu 6\, sali 104). Tringan kuukausikokousperinnettä jatketaan\, mutta syyskuusta alkaen uudella nimellä: lintuilta. \nSyyskuun lintuillan vieraaksi saapuu Katja Rönkä\, jolta kuullaan esitelmä: Rytikerttusten toinen vuosisata Suomessa – mistä ne tulivat\, keitä ne ovat ja miltä tulevaisuus näyttää? \nFT Katja Rönkä on Suomen Akatemian rahoittama tutkijatohtori ja tekee tällä hetkellä tutkimusta ilmastomuutoksen vaikutuksesta biologisiin vuorovaikutuksiin. Nykyisessä tutkimusryhmässään hän on perehtynyt etenkin rytikerttusen ekologiaan ja käyttäytymiseen. Sukella tutkijoiden mukaan ruovikkoon katsomaan kuinka rytikerttuset reagoivat  3D-printattuun käkeen tai kilpailijaan pesällään.\n \nTringan lintuillat ovat kaikille avoimia tilaisuuksia\, tervetuloa! \nTiedustelut: toimisto(ät)tringa.fi \nRytikerttunen (Acrocephalus scirpaceus) Kuva: Edward Kluen \n 
URL:https://tringa.fi/tapahtuma/syyskuun-lintuilta-rytikerttusten-toinen-vuosisata-suomessa/
LOCATION:Tieteiden talo\, Kirkkokatu 6\, Helsinki\, 00170\, Suomi
CATEGORIES:Esitelmät,Kokoukset
END:VEVENT
END:VCALENDAR