BEGIN:VCALENDAR
VERSION:2.0
PRODID:-//Uudenmaan lintuharrastajien oma yhdistys - ECPv6.15.20//NONSGML v1.0//EN
CALSCALE:GREGORIAN
METHOD:PUBLISH
X-ORIGINAL-URL:https://tringa.fi
X-WR-CALDESC:Events for Uudenmaan lintuharrastajien oma yhdistys
REFRESH-INTERVAL;VALUE=DURATION:PT1H
X-Robots-Tag:noindex
X-PUBLISHED-TTL:PT1H
BEGIN:VTIMEZONE
TZID:Europe/Helsinki
BEGIN:DAYLIGHT
TZOFFSETFROM:+0200
TZOFFSETTO:+0300
TZNAME:EEST
DTSTART:20220327T010000
END:DAYLIGHT
BEGIN:STANDARD
TZOFFSETFROM:+0300
TZOFFSETTO:+0200
TZNAME:EET
DTSTART:20221030T010000
END:STANDARD
BEGIN:DAYLIGHT
TZOFFSETFROM:+0200
TZOFFSETTO:+0300
TZNAME:EEST
DTSTART:20230326T010000
END:DAYLIGHT
BEGIN:STANDARD
TZOFFSETFROM:+0300
TZOFFSETTO:+0200
TZNAME:EET
DTSTART:20231029T010000
END:STANDARD
BEGIN:DAYLIGHT
TZOFFSETFROM:+0200
TZOFFSETTO:+0300
TZNAME:EEST
DTSTART:20240331T010000
END:DAYLIGHT
BEGIN:STANDARD
TZOFFSETFROM:+0300
TZOFFSETTO:+0200
TZNAME:EET
DTSTART:20241027T010000
END:STANDARD
END:VTIMEZONE
BEGIN:VEVENT
DTSTART;TZID=Europe/Helsinki:20230504T180000
DTEND;TZID=Europe/Helsinki:20230504T200000
DTSTAMP:20260421T141432
CREATED:20230428T094540Z
LAST-MODIFIED:20230428T095338Z
UID:21726-1683223200-1683230400@tringa.fi
SUMMARY:Toukokuun kuukausikokous
DESCRIPTION:Tringan toukokuun kuukausikokous pidetään Tieteiden talon salissa 104 (Kirkkokatu 6\, Helsinki) torstaina 4.5. klo 18-20. Kokouksessa on luvassa asiaa lintuatlaksesta\, kun lintuatlaskoordinaattori Heidi Björklund Helsingin Luonnontieteelliseltä keskusmuseolta pitää esitelmän Suomen 4. lintuatlaksen tilanteesta. \nKuukausikokoukseen on vapaa pääsy\, tervetuloa!
URL:https://tringa.fi/tapahtuma/toukokuun-kuukausikokous/
LOCATION:Tieteiden talo\, Kirkkokatu 6\, Helsinki\, 00170\, Suomi
CATEGORIES:Esitelmät,Kokoukset
END:VEVENT
END:VCALENDAR