BEGIN:VCALENDAR
VERSION:2.0
PRODID:-//Uudenmaan lintuharrastajien oma yhdistys - ECPv6.15.20//NONSGML v1.0//EN
CALSCALE:GREGORIAN
METHOD:PUBLISH
X-ORIGINAL-URL:https://tringa.fi
X-WR-CALDESC:Events for Uudenmaan lintuharrastajien oma yhdistys
REFRESH-INTERVAL;VALUE=DURATION:PT1H
X-Robots-Tag:noindex
X-PUBLISHED-TTL:PT1H
BEGIN:VTIMEZONE
TZID:Europe/Helsinki
BEGIN:DAYLIGHT
TZOFFSETFROM:+0200
TZOFFSETTO:+0300
TZNAME:EEST
DTSTART:20220327T010000
END:DAYLIGHT
BEGIN:STANDARD
TZOFFSETFROM:+0300
TZOFFSETTO:+0200
TZNAME:EET
DTSTART:20221030T010000
END:STANDARD
BEGIN:DAYLIGHT
TZOFFSETFROM:+0200
TZOFFSETTO:+0300
TZNAME:EEST
DTSTART:20230326T010000
END:DAYLIGHT
BEGIN:STANDARD
TZOFFSETFROM:+0300
TZOFFSETTO:+0200
TZNAME:EET
DTSTART:20231029T010000
END:STANDARD
BEGIN:DAYLIGHT
TZOFFSETFROM:+0200
TZOFFSETTO:+0300
TZNAME:EEST
DTSTART:20240331T010000
END:DAYLIGHT
BEGIN:STANDARD
TZOFFSETFROM:+0300
TZOFFSETTO:+0200
TZNAME:EET
DTSTART:20241027T010000
END:STANDARD
END:VTIMEZONE
BEGIN:VEVENT
DTSTART;TZID=Europe/Helsinki:20230413T173000
DTEND;TZID=Europe/Helsinki:20230413T193000
DTSTAMP:20260421T172552
CREATED:20230329T100048Z
LAST-MODIFIED:20230406T145235Z
UID:21495-1681407000-1681414200@tringa.fi
SUMMARY:Tringan kevätkokous
DESCRIPTION:Tringan kevätkokous pidetään torstaina 13.4.2023 klo 17.30 alkaen Tieteiden talolla (Kirkkokatu 6\, Helsinki). \nKokouksen esityslista löytyy täältä: https://tringa.fi/2023/03/28/tringan-kevatkokous-pidetaan-13-4-2023/ \nSääntömääräisten asioiden jälkeen Kim Kuntze pitää esitelmän Jurmon lintuaseman vaiheista ja saaren linnustosta otsikolla ”Liian iso saari ja vielä isompi kirja – Jurmon lintuasema vuodesta 1962”. \nJurmon lintuasemalla rengastettujen lajien listalta löytyy mm. harjalintu. Kuva: Kim Kuntze \nJurmon lintuaseman aktiiveja. Kuva: Meri Öhman \n 
URL:https://tringa.fi/tapahtuma/tringan-kevatkokous-2/
LOCATION:Tieteiden talo\, Kirkkokatu 6\, Helsinki\, 00170\, Suomi
CATEGORIES:Kokoukset
END:VEVENT
END:VCALENDAR