BEGIN:VCALENDAR
VERSION:2.0
PRODID:-//Uudenmaan lintuharrastajien oma yhdistys - ECPv6.15.20//NONSGML v1.0//EN
CALSCALE:GREGORIAN
METHOD:PUBLISH
X-ORIGINAL-URL:https://tringa.fi
X-WR-CALDESC:Events for Uudenmaan lintuharrastajien oma yhdistys
REFRESH-INTERVAL;VALUE=DURATION:PT1H
X-Robots-Tag:noindex
X-PUBLISHED-TTL:PT1H
BEGIN:VTIMEZONE
TZID:Europe/Helsinki
BEGIN:DAYLIGHT
TZOFFSETFROM:+0200
TZOFFSETTO:+0300
TZNAME:EEST
DTSTART:20230326T010000
END:DAYLIGHT
BEGIN:STANDARD
TZOFFSETFROM:+0300
TZOFFSETTO:+0200
TZNAME:EET
DTSTART:20231029T010000
END:STANDARD
BEGIN:DAYLIGHT
TZOFFSETFROM:+0200
TZOFFSETTO:+0300
TZNAME:EEST
DTSTART:20240331T010000
END:DAYLIGHT
BEGIN:STANDARD
TZOFFSETFROM:+0300
TZOFFSETTO:+0200
TZNAME:EET
DTSTART:20241027T010000
END:STANDARD
BEGIN:DAYLIGHT
TZOFFSETFROM:+0200
TZOFFSETTO:+0300
TZNAME:EEST
DTSTART:20250330T010000
END:DAYLIGHT
BEGIN:STANDARD
TZOFFSETFROM:+0300
TZOFFSETTO:+0200
TZNAME:EET
DTSTART:20251026T010000
END:STANDARD
END:VTIMEZONE
BEGIN:VEVENT
DTSTART;TZID=Europe/Helsinki:20240324T080000
DTEND;TZID=Europe/Helsinki:20240324T110000
DTSTAMP:20260423T034544
CREATED:20240113T150800Z
LAST-MODIFIED:20240113T151618Z
UID:24333-1711267200-1711278000@tringa.fi
SUMMARY:Tulliniemen alkukevät -retkisarjan retki 1/3
DESCRIPTION:Tämän retkisarjan kautta tutustutaan Hangon Tulliniemen alkukevään linnustoon. Kolme erillistä retkeä muodostavat kurssimuotoisen kokonaisuuden. Retkillä tutustutaan niin muutonseurantaan kuin levähtävien lintujen tarkkailuun\, rengastustakin päästään seuraamaan mahdollisuuksien mukaan. Maalis-huhtikuun vaihde on otollista aikaa pikkuharvinaisuuksien\, kuten kyhmyhaahkan tai avosetin havaitsemiseen. Ilmoittaudu mukaan yhdelle tai vaikka kaikille kolmelle retkelle! \nSeuraamme sunnuntaina 24.3. aamupäivän ajan (klo 8-11) muuttoa Hangon lintuaseman oppaan seurassa Tulliniemen eteläkärjen näköalakalliolta tai vaihtoehtoisesti aivan eteläkärjestä käsin. Haahkojen kevätmuutto on yksi kevään hienoimmista vaiheista Hangon lintuasemalla\, samalla on hyvät mahdollisuudet monen muun sorsalinnun muuton seurantaan. Aloitus klo 8.00 Tulliniemen eteläkärjen näköalakalliolta. \nKenelle: Kaikille lintuharrastajille ja linnuista kiinnostuneille \nRetkimaksu: 30€/aikuinen; 15€/lapsi (7-18v). \nOppaana: Aki Aintila \nRetkiaika: klo 8-11 \nIlmoittautuminen: paikat varataan lintuaseman verkkokaupasta
URL:https://tringa.fi/tapahtuma/hangon-tulliniemen-alkukevat-retki-1-3-2/
CATEGORIES:Hangon lintuaseman opastukset
END:VEVENT
END:VCALENDAR