BEGIN:VCALENDAR
VERSION:2.0
PRODID:-//Uudenmaan lintuharrastajien oma yhdistys - ECPv6.15.20//NONSGML v1.0//EN
CALSCALE:GREGORIAN
METHOD:PUBLISH
X-ORIGINAL-URL:https://tringa.fi
X-WR-CALDESC:Events for Uudenmaan lintuharrastajien oma yhdistys
REFRESH-INTERVAL;VALUE=DURATION:PT1H
X-Robots-Tag:noindex
X-PUBLISHED-TTL:PT1H
BEGIN:VTIMEZONE
TZID:Europe/Helsinki
BEGIN:DAYLIGHT
TZOFFSETFROM:+0200
TZOFFSETTO:+0300
TZNAME:EEST
DTSTART:20230326T010000
END:DAYLIGHT
BEGIN:STANDARD
TZOFFSETFROM:+0300
TZOFFSETTO:+0200
TZNAME:EET
DTSTART:20231029T010000
END:STANDARD
BEGIN:DAYLIGHT
TZOFFSETFROM:+0200
TZOFFSETTO:+0300
TZNAME:EEST
DTSTART:20240331T010000
END:DAYLIGHT
BEGIN:STANDARD
TZOFFSETFROM:+0300
TZOFFSETTO:+0200
TZNAME:EET
DTSTART:20241027T010000
END:STANDARD
BEGIN:DAYLIGHT
TZOFFSETFROM:+0200
TZOFFSETTO:+0300
TZNAME:EEST
DTSTART:20250330T010000
END:DAYLIGHT
BEGIN:STANDARD
TZOFFSETFROM:+0300
TZOFFSETTO:+0200
TZNAME:EET
DTSTART:20251026T010000
END:STANDARD
END:VTIMEZONE
BEGIN:VEVENT
DTSTART;TZID=Europe/Helsinki:20240505T090000
DTEND;TZID=Europe/Helsinki:20240505T120000
DTSTAMP:20260422T115008
CREATED:20240423T131129Z
LAST-MODIFIED:20240423T131322Z
UID:26091-1714899600-1714910400@tringa.fi
SUMMARY:Aamupäivä Hangon lintuasemalla - opastus lintuharrastajille
DESCRIPTION:Lähde Hangon lintuasemalle seuraamaan lintujen kevätmuuttoa! Aamupäivä vietetään lintuaseman oppaan seurassa yhdellä maamme tunnetuimmista lintupaikoista kevään muuttolintuja havainnoiden ja lintujen määritykseen keskittyen. Opastus kestää noin 3 tuntia ja mukaan mahtuu 10 lintuharrastajaa. \n\n\n\n\n\nOppaana: Aki Aintila \nKokoontuminen: Tulliniemen luontopolun eteläpään näköalakalliolla paikalla\, jossa kaksi retkipöytää. Tapaamispaikalle on luontopolun alusta noin 3\,7 kilometrin kävelymatka. Näköalapaikka kartalla: Uddskatanin näköalapaikka \nOpastuksen kesto: klo 9.00 – 12.00 \nOpastuksen hinta: 30€ Aikuinen; 15€ lapsi (7-18v). \nIlmoittautuminen: Ilmoittautudu mukaan Hangon lintuaseman verkkokaupassa\, osallistumismaksu maksettava ilmoittautumisen yhteydessä. Koska verkkokaupassa on saatavilla useita retkiä\, muistathan valita oikean päivämäärän! \nLisätietoja: Aamupäivä Hangon lintuasemalla -opastus lintuharrastajille \nTiedustelut: opastukset(ät)halias.fi
URL:https://tringa.fi/tapahtuma/aamupaiva-hangon-lintuasemalla-opastus-lintuharrastajille-13/
CATEGORIES:Hangon lintuaseman opastukset
END:VEVENT
BEGIN:VEVENT
DTSTART;TZID=Europe/Helsinki:20240509T120000
DTEND;TZID=Europe/Helsinki:20240509T133000
DTSTAMP:20260422T115008
CREATED:20240423T133307Z
LAST-MODIFIED:20240423T133307Z
UID:26101-1715256000-1715261400@tringa.fi
SUMMARY:Opastettu kierros Hangon lintuasemalla
DESCRIPTION:Lähde opastetulle kierrokselle Hangon lintuasemalle! Suomen mantereen eteläsimmässä kärjessä on seurattu ja tutkittu lintujen muuttoa jo yli 40 vuoden ajan. Opastettu kierros yleisöltä muutoin suljetulla lintuaseman alueella kestää noin 1\,5h ja sen voi varata verkkokaupastamme. \nOppaana: Aki Aintila \nKokoontuminen: Tulliniemen luontopolun eteläpään näköalakalliolla paikalla\, jossa kaksi retkipöytää. Tapaamispaikalle on luontopolun alusta noin 3\,7 kilometrin kävelymatka. Näköalapaikka kartalla: Uddskatanin näköalapaikka \nOpastuksen kesto: klo 12.00 – 13.30 \nOpastuksen hinta: 15€ Aikuinen; 7\,50€ lapsi (7-18v). \nIlmoittautuminen: Ilmoittautudu mukaan Hangon lintuaseman verkkokaupassa\, osallistumismaksu maksettava ilmoittautumisen yhteydessä. Koska verkkokaupassa on saatavilla useita retkiä\, muistathan valita oikean päivämäärän! \nLisätietoja: Opastetut kierrosket Hangon lintuasemalla \nTiedustelut: opastukset(ät)halias.fi
URL:https://tringa.fi/tapahtuma/opastettu-kierros-hangon-lintuasemalla-13/
CATEGORIES:Hangon lintuaseman opastukset
END:VEVENT
BEGIN:VEVENT
DTSTART;TZID=Europe/Helsinki:20240512T090000
DTEND;TZID=Europe/Helsinki:20240512T120000
DTSTAMP:20260422T115008
CREATED:20240423T131400Z
LAST-MODIFIED:20240423T131400Z
UID:26093-1715504400-1715515200@tringa.fi
SUMMARY:Aamupäivä Hangon lintuasemalla - opastus lintuharrastajille
DESCRIPTION:Lähde Hangon lintuasemalle seuraamaan lintujen kevätmuuttoa! Aamupäivä vietetään lintuaseman oppaan seurassa yhdellä maamme tunnetuimmista lintupaikoista kevään muuttolintuja havainnoiden ja lintujen määritykseen keskittyen. Opastus kestää noin 3 tuntia ja mukaan mahtuu 10 lintuharrastajaa. \n\n\n\n\n\nOppaana: Aki Aintila \nKokoontuminen: Tulliniemen luontopolun eteläpään näköalakalliolla paikalla\, jossa kaksi retkipöytää. Tapaamispaikalle on luontopolun alusta noin 3\,7 kilometrin kävelymatka. Näköalapaikka kartalla: Uddskatanin näköalapaikka \nOpastuksen kesto: klo 9.00 – 12.00 \nOpastuksen hinta: 30€ Aikuinen; 15€ lapsi (7-18v). \nIlmoittautuminen: Ilmoittautudu mukaan Hangon lintuaseman verkkokaupassa\, osallistumismaksu maksettava ilmoittautumisen yhteydessä. Koska verkkokaupassa on saatavilla useita retkiä\, muistathan valita oikean päivämäärän! \nLisätietoja: Aamupäivä Hangon lintuasemalla -opastus lintuharrastajille \nTiedustelut: opastukset(ät)halias.fi
URL:https://tringa.fi/tapahtuma/aamupaiva-hangon-lintuasemalla-opastus-lintuharrastajille-14/
CATEGORIES:Hangon lintuaseman opastukset
END:VEVENT
BEGIN:VEVENT
DTSTART;TZID=Europe/Helsinki:20240519T060000
DTEND;TZID=Europe/Helsinki:20240519T090000
DTSTAMP:20260422T115008
CREATED:20240423T132831Z
LAST-MODIFIED:20240423T132831Z
UID:26095-1716098400-1716109200@tringa.fi
SUMMARY:Kevätarktika ja Tulliniemen pesimälinnusto 1/3
DESCRIPTION:Tällä retkisarjalla tutustutaan loppukevään lajistoon. Kahden ensimmäisen retkien tavoitteena on seurata arktisten hanhien\, kuikkalintujen kahlaajien muuttoa\, kolmannella retkellä kierrämme Tulliniemen luontopolkua laulaviin varpuslintuihin ja muuhun pesimälajistoon keskittyen. Opastukset pidetään sunnuntaisin aamupainotteisesti ja mukaan mahtuu kerralla 10 lintuharrastajaa. \nSeuraamme sunnuntaina 19.5. aamun ajan (klo 6-9) muuttoa oppaan seurassa Tulliniemen eteläkärjen näköalakalliolta. Arktisten hanhien\, kuikkalintujen ja kahlaajien muutto on monille lintuharrastajille kevään kohokohta. Toukokuun loppu on hyvä ajankohta myös jonkun pikkuharvinaisuuden\, kuten leveäpyrstökihun tai keltahempon\, havaitsemiseen. \nKenelle: Kaikille lintuharrastajille ja linnuista kiinnostuneille \nRetkimaksu: 30€/aikuinen; 15€/lapsi (7-18v). \nOppaana: Aki Aintila \nRetkiaika: klo 6.00-9.00 \nIlmoittautuminen: paikat varataan lintuaseman verkkokaupasta \nLue lisää Hangon lintuaseman (Halias) opastuksista aseman verkkosivuilta: halias.fi
URL:https://tringa.fi/tapahtuma/kevatarktika-ja-tulliniemen-pesimalinnusto-1-3-2/
CATEGORIES:Hangon lintuaseman opastukset
END:VEVENT
BEGIN:VEVENT
DTSTART;TZID=Europe/Helsinki:20240525T120000
DTEND;TZID=Europe/Helsinki:20240525T133000
DTSTAMP:20260422T115008
CREATED:20240423T133342Z
LAST-MODIFIED:20240423T133342Z
UID:26103-1716638400-1716643800@tringa.fi
SUMMARY:Opastettu kierros Hangon lintuasemalla
DESCRIPTION:Lähde opastetulle kierrokselle Hangon lintuasemalle! Suomen mantereen eteläsimmässä kärjessä on seurattu ja tutkittu lintujen muuttoa jo yli 40 vuoden ajan. Opastettu kierros yleisöltä muutoin suljetulla lintuaseman alueella kestää noin 1\,5h ja sen voi varata verkkokaupastamme. \nOppaana: Aki Aintila \nKokoontuminen: Tulliniemen luontopolun eteläpään näköalakalliolla paikalla\, jossa kaksi retkipöytää. Tapaamispaikalle on luontopolun alusta noin 3\,7 kilometrin kävelymatka. Näköalapaikka kartalla: Uddskatanin näköalapaikka \nOpastuksen kesto: klo 12.00 – 13.30 \nOpastuksen hinta: 15€ Aikuinen; 7\,50€ lapsi (7-18v). \nIlmoittautuminen: Ilmoittautudu mukaan Hangon lintuaseman verkkokaupassa\, osallistumismaksu maksettava ilmoittautumisen yhteydessä. Koska verkkokaupassa on saatavilla useita retkiä\, muistathan valita oikean päivämäärän! \nLisätietoja: Opastetut kierrosket Hangon lintuasemalla \nTiedustelut: opastukset(ät)halias.fi
URL:https://tringa.fi/tapahtuma/opastettu-kierros-hangon-lintuasemalla-14/
CATEGORIES:Hangon lintuaseman opastukset
END:VEVENT
BEGIN:VEVENT
DTSTART;TZID=Europe/Helsinki:20240526T060000
DTEND;TZID=Europe/Helsinki:20240526T090000
DTSTAMP:20260422T115008
CREATED:20240423T132948Z
LAST-MODIFIED:20240423T132948Z
UID:26097-1716703200-1716714000@tringa.fi
SUMMARY:Kevätarktika ja Tulliniemen pesimälinnusto 2/3
DESCRIPTION:Tällä retkisarjalla tutustutaan loppukevään lajistoon. Kahden ensimmäisen retkien tavoitteena on seurata arktisten hanhien\, kuikkalintujen kahlaajien muuttoa\, kolmannella retkellä kierrämme Tulliniemen luontopolkua laulaviin varpuslintuihin ja muuhun pesimälajistoon keskittyen. Opastukset pidetään sunnuntaisin aamupainotteisesti ja mukaan mahtuu kerralla 10 lintuharrastajaa. \nSeuraamme sunnuntaina 26.5. aamun ajana (klo 6-9) muuttoa oppaan seurassa Tulliniemen eteläkärjen näköalakalliolta. Rengastusta päästään seuraamaan mahdollisuuksien mukaan. Arktisten hanhien\, kuikkalintujen ja kahlaajien muutto on monille lintuharrastajille kevään kohokohta. Toukokuun loppu on hyvä ajankohta myös jonkun pikkuharvinaisuuden\, kuten leveäpyrstökihun tai keltahempon\, havaitsemiseen. \nKenelle: Kaikille lintuharrastajille ja linnuista kiinnostuneille \nRetkimaksu: 30€/aikuinen; 15€/lapsi (7-18v). \nOppaana: Aki Aintila \nRetkiaika: klo 6.00-9.00 \nIlmoittautuminen: paikat varataan lintuaseman verkkokaupasta \nLue lisää Hangon lintuaseman (Halias) opastuksista aseman verkkosivuilta: halias.fi
URL:https://tringa.fi/tapahtuma/kevatarktika-ja-tulliniemen-pesimalinnusto-2-3-3/
CATEGORIES:Hangon lintuaseman opastukset
END:VEVENT
END:VCALENDAR