BEGIN:VCALENDAR
VERSION:2.0
PRODID:-//Uudenmaan lintuharrastajien oma yhdistys - ECPv6.15.20//NONSGML v1.0//EN
CALSCALE:GREGORIAN
METHOD:PUBLISH
X-ORIGINAL-URL:https://tringa.fi
X-WR-CALDESC:Events for Uudenmaan lintuharrastajien oma yhdistys
REFRESH-INTERVAL;VALUE=DURATION:PT1H
X-Robots-Tag:noindex
X-PUBLISHED-TTL:PT1H
BEGIN:VTIMEZONE
TZID:Europe/Helsinki
BEGIN:DAYLIGHT
TZOFFSETFROM:+0200
TZOFFSETTO:+0300
TZNAME:EEST
DTSTART:20220327T010000
END:DAYLIGHT
BEGIN:STANDARD
TZOFFSETFROM:+0300
TZOFFSETTO:+0200
TZNAME:EET
DTSTART:20221030T010000
END:STANDARD
BEGIN:DAYLIGHT
TZOFFSETFROM:+0200
TZOFFSETTO:+0300
TZNAME:EEST
DTSTART:20230326T010000
END:DAYLIGHT
BEGIN:STANDARD
TZOFFSETFROM:+0300
TZOFFSETTO:+0200
TZNAME:EET
DTSTART:20231029T010000
END:STANDARD
BEGIN:DAYLIGHT
TZOFFSETFROM:+0200
TZOFFSETTO:+0300
TZNAME:EEST
DTSTART:20240331T010000
END:DAYLIGHT
BEGIN:STANDARD
TZOFFSETFROM:+0300
TZOFFSETTO:+0200
TZNAME:EET
DTSTART:20241027T010000
END:STANDARD
END:VTIMEZONE
BEGIN:VEVENT
DTSTART;TZID=Europe/Helsinki:20230507T090000
DTEND;TZID=Europe/Helsinki:20230507T120000
DTSTAMP:20260423T092720
CREATED:20230415T141412Z
LAST-MODIFIED:20230415T141412Z
UID:21638-1683450000-1683460800@tringa.fi
SUMMARY:Aamupäivä Hangon lintuasemalla - opastus lintuharrastajille
DESCRIPTION:Lähde Hangon lintuasemalle seuraamaan lintujen kevätmuuttoa! Aamupäivä vietetään lintuaseman oppaan seurassa yhdellä maamme tunnetuimmista lintupaikoista kevään muuttolintuja havainnoiden ja lintujen määritykseen keskittyen. Opastus kestää noin 3 tuntia ja mukaan mahtuu 10 lintuharrastajaa. \n\n\n\n\n\nOppaana: Aki Aintila \nKokoontuminen: Tulliniemen luontopolun eteläpään näköalakalliolla paikalla\, jossa kaksi retkipöytää. Tapaamispaikalle on luontopolun alusta noin 3\,7 kilometrin kävelymatka. Näköalapaikka kartalla: Uddskatanin näköalapaikka \nOpastuksen kesto: klo 9.00 – 12.00 \nOpastuksen hinta: 30€ Aikuinen; 15€ lapsi (7-18v). \nIlmoittautuminen: Ilmoittautudu mukaan Hangon lintuaseman verkkokaupassa\, osallistumismaksu maksettava ilmoittautumisen yhteydessä. Koska verkkokaupassa on saatavilla useita retkiä\, muistathan valita oikean päivämäärän! \nLisätietoja: Aamupäivä Hangon lintuasemalla -opastus lintuharrastajille \nTiedustelut: opastukset(ät)halias.fi
URL:https://tringa.fi/tapahtuma/aamupaiva-hangon-lintuasemalla-opastus-lintuharrastajille-4/
CATEGORIES:Hangon lintuaseman opastukset,Retket
ORGANIZER;CN="Hangon lintuasema":MAILTO:opastukset@halias.fi
END:VEVENT
BEGIN:VEVENT
DTSTART;TZID=Europe/Helsinki:20230527T120000
DTEND;TZID=Europe/Helsinki:20230527T133000
DTSTAMP:20260423T092720
CREATED:20230415T140920Z
LAST-MODIFIED:20230415T140938Z
UID:21632-1685188800-1685194200@tringa.fi
SUMMARY:Opastettu kierros Hangon lintuasemalla
DESCRIPTION:Lähde opastetulle kierrokselle Hangon lintuasemalle! Suomen mantereen eteläsimmässä kärjessä on seurattu ja tutkittu lintujen muuttoa jo yli 40 vuoden ajan. Opastettu kierros yleisöltä muutoin suljetulla lintuaseman alueella kestää noin 1\,5h ja sen voi varata verkkokaupastamme. \nOppaana: Aki Aintila \nKokoontuminen: Tulliniemen luontopolun eteläpään näköalakalliolla paikalla\, jossa kaksi retkipöytää. Tapaamispaikalle on luontopolun alusta noin 3\,7 kilometrin kävelymatka. Näköalapaikka kartalla: Uddskatanin näköalapaikka \nOpastuksen kesto: klo 12.00 – 13.30 \nOpastuksen hinta: 15€ Aikuinen; 7\,50€ lapsi (7-18v). \nIlmoittautuminen: Ilmoittautudu mukaan Hangon lintuaseman verkkokaupassa\, osallistumismaksu maksettava ilmoittautumisen yhteydessä. Koska verkkokaupassa on saatavilla useita retkiä\, muistathan valita oikean päivämäärän! \nLisätietoja: Opastetut kierrosket Hangon lintuasemalla \nTiedustelut: opastukset(ät)halias.fi
URL:https://tringa.fi/tapahtuma/opastettu-kierros-hangon-lintuasemalla-3/
CATEGORIES:Hangon lintuaseman opastukset
END:VEVENT
END:VCALENDAR