BEGIN:VCALENDAR
VERSION:2.0
PRODID:-//Uudenmaan lintuharrastajien oma yhdistys - ECPv6.15.20//NONSGML v1.0//EN
CALSCALE:GREGORIAN
METHOD:PUBLISH
X-ORIGINAL-URL:https://tringa.fi
X-WR-CALDESC:Events for Uudenmaan lintuharrastajien oma yhdistys
REFRESH-INTERVAL;VALUE=DURATION:PT1H
X-Robots-Tag:noindex
X-PUBLISHED-TTL:PT1H
BEGIN:VTIMEZONE
TZID:Europe/Helsinki
BEGIN:DAYLIGHT
TZOFFSETFROM:+0200
TZOFFSETTO:+0300
TZNAME:EEST
DTSTART:20220327T010000
END:DAYLIGHT
BEGIN:STANDARD
TZOFFSETFROM:+0300
TZOFFSETTO:+0200
TZNAME:EET
DTSTART:20221030T010000
END:STANDARD
BEGIN:DAYLIGHT
TZOFFSETFROM:+0200
TZOFFSETTO:+0300
TZNAME:EEST
DTSTART:20230326T010000
END:DAYLIGHT
BEGIN:STANDARD
TZOFFSETFROM:+0300
TZOFFSETTO:+0200
TZNAME:EET
DTSTART:20231029T010000
END:STANDARD
BEGIN:DAYLIGHT
TZOFFSETFROM:+0200
TZOFFSETTO:+0300
TZNAME:EEST
DTSTART:20240331T010000
END:DAYLIGHT
BEGIN:STANDARD
TZOFFSETFROM:+0300
TZOFFSETTO:+0200
TZNAME:EET
DTSTART:20241027T010000
END:STANDARD
END:VTIMEZONE
BEGIN:VEVENT
DTSTART;TZID=Europe/Helsinki:20230402T090000
DTEND;TZID=Europe/Helsinki:20230402T120000
DTSTAMP:20260423T105851
CREATED:20230214T195248Z
LAST-MODIFIED:20230214T210941Z
UID:20821-1680426000-1680436800@tringa.fi
SUMMARY:Tulliniemen alkukevät -retkisarjan retki 2/3
DESCRIPTION:Tämän retkisarjan kautta tutustutaan Tulliniemen alkukevään linnustoon. Kolme erillistä retkeä muodostavat kurssimuotoisen kokonaisuuden. Retkillä tutustutaan niin muutonseurantaan kuin levähtävien lintujen tarkkailuun\, rengastustakin päästään seuraamaan mahdollisuuksien mukaan. Maalis-huhtikuun vaihde on otollista aikaa pikkuharvinaisuuksien\, kuten kyhmyhaahkan tai avosetin havaitsemiseen. Ilmoittaudu mukaan yhdelle tai vaikka kaikille kolmelle retkelle! \nSunnuntaina 2.4. (klo 9-12) tutustumme Tulliniemen alueella levähtävään linnustoon ja kierrämme niemenkärjen matalat merenlahdet luontopolkua pitkin. Matalikot\, suojaisat merenlahdet sekä Gåsörsuddenin särkkä tarjoavat ruokailumahdollisuuksia monipuoliselle lajistolle. Aloitus klo 9.00 luontopolun varrelta niemen pohjoisrannalta. \nKenelle: Kaikille lintuharrastajille ja linnuista kiinnostuneille \nRetkimaksu: 30€/aikuinen; 15€/lapsi (7-18v). \nOppaana: Aki Aintila \nRetkiaika: klo 8-11 \nIlmoittautuminen: paikat varataan lintuaseman verkkokaupasta \nLue lisää Hangon lintuaseman (Halias) opastuksista aseman verkkosivuilta: halias.fi \n\n\n\n 
URL:https://tringa.fi/tapahtuma/tulliniemen-alkukevat-retkisarjan-retki-2-3/
CATEGORIES:Hangon lintuaseman opastukset,Retket
ORGANIZER;CN="Hangon lintuasema":MAILTO:opastukset@halias.fi
END:VEVENT
BEGIN:VEVENT
DTSTART;TZID=Europe/Helsinki:20230407T120000
DTEND;TZID=Europe/Helsinki:20230407T133000
DTSTAMP:20260423T105851
CREATED:20230214T204521Z
LAST-MODIFIED:20230214T212421Z
UID:20844-1680868800-1680874200@tringa.fi
SUMMARY:Opastettu kierros Hangon lintuasemalla
DESCRIPTION:Lähde opastetulle kierrokselle Hangon lintuasemalle! Suomen mantereen eteläsimmässä kärjessä on seurattu ja tutkittu lintujen muuttoa jo yli 40 vuoden ajan. Opastettu kierros yleisöltä muutoin suljetulla lintuaseman alueella kestää noin 1\,5h ja sen voi varata verkkokaupastamme. \nOppaana: Aki Aintila \nKokoontuminen: Tulliniemen luontopolun eteläpään näköalakalliolla paikalla\, jossa kaksi retkipöytää. Tapaamispaikalle on luontopolun alusta noin 3\,7 kilometrin kävelymatka. Näköalapaikka kartalla: Uddskatanin näköalapaikka \nOpastuksen kesto: klo 12.00 – 13.30 \nOpastuksen hinta: 15€ Aikuinen; 7\,50€ lapsi (7-18v). \nIlmoittautuminen: Ilmoittautudu mukaan Hangon lintuaseman verkkokaupassa\, osallistumismaksu maksettava ilmoittautumisen yhteydessä. Koska verkkokaupassa on saatavilla useita retkiä\, muistathan valita oikean päivämäärän! \nLisätietoja: Opastetut kierrosket Hangon lintuasemalla \nTiedustelut: opastukset(ät)halias.fi
URL:https://tringa.fi/tapahtuma/opastettu-kierros-hangon-lintuasemalla/
CATEGORIES:Hangon lintuaseman opastukset,Retket
ORGANIZER;CN="Hangon lintuasema":MAILTO:opastukset@halias.fi
END:VEVENT
BEGIN:VEVENT
DTSTART;TZID=Europe/Helsinki:20230409T100000
DTEND;TZID=Europe/Helsinki:20230409T130000
DTSTAMP:20260423T105851
CREATED:20230214T201400Z
LAST-MODIFIED:20230214T211100Z
UID:20834-1681034400-1681045200@tringa.fi
SUMMARY:Tulliniemen alkukevät -retkisarjan retki 3/3
DESCRIPTION:Tämän retkisarjan kautta tutustutaan Tulliniemen alkukevään linnustoon. Kolme erillistä retkeä muodostavat kurssimuotoisen kokonaisuuden. Retkillä tutustutaan niin muutonseurantaan kuin levähtävien lintujen tarkkailuun\, rengastustakin päästään seuraamaan mahdollisuuksien mukaan. Maalis-huhtikuun vaihde on otollista aikaa pikkuharvinaisuuksien\, kuten kyhmyhaahkan tai avosetin havaitsemiseen. Ilmoittaudu mukaan yhdelle tai vaikka kaikille kolmelle retkelle! \nSeuraamme sunnuntaina 9.4. keskipäivän ajan (klo 10-13) muuttoa oppaan seurassa Tulliniemen eteläkärjen näköalakalliolta tavoitteena havaita petolintujen ja kurkien muuttoa. Tulliniemen saaristossa pesimälajistoon kuuluvan luotokirvisen\, merikihun ja ristisorsan havaitsemiseen on hyvät mahdollisuudet. Aloitus klo 10.00 Tulliniemen eteläkärjen näköalakalliolta. \nKenelle: Kaikille lintuharrastajille ja linnuista kiinnostuneille \nRetkimaksu: 30€/aikuinen; 15€/lapsi (7-18v). \nOppaana: Aki Aintila \nRetkiaika: klo 8-11 \nIlmoittautuminen: paikat varataan lintuaseman verkkokaupasta \nLue lisää Hangon lintuaseman (Halias) opastuksista aseman verkkosivuilta: halias.fi
URL:https://tringa.fi/tapahtuma/tulliniemen-alkukevat-retkisarjan-retki-3-3/
CATEGORIES:Hangon lintuaseman opastukset,Retket
ORGANIZER;CN="Hangon lintuasema":MAILTO:opastukset@halias.fi
END:VEVENT
BEGIN:VEVENT
DTSTART;TZID=Europe/Helsinki:20230415T120000
DTEND;TZID=Europe/Helsinki:20230415T133000
DTSTAMP:20260423T105851
CREATED:20230214T204923Z
LAST-MODIFIED:20230214T212321Z
UID:20847-1681560000-1681565400@tringa.fi
SUMMARY:Opastettu kierros Hangon lintuasemalla
DESCRIPTION:Lähde opastetulle kierrokselle Hangon lintuasemalle! Suomen mantereen eteläsimmässä kärjessä on seurattu ja tutkittu lintujen muuttoa jo yli 40 vuoden ajan. Opastettu kierros yleisöltä muutoin suljetulla lintuaseman alueella kestää noin 1\,5h ja sen voi varata verkkokaupastamme. \nOppaana: Aki Aintila \nKokoontuminen: Tulliniemen luontopolun eteläpään näköalakalliolla paikalla\, jossa kaksi retkipöytää. Tapaamispaikalle on luontopolun alusta noin 3\,7 kilometrin kävelymatka. Näköalapaikka kartalla: Uddskatanin näköalapaikka \nOpastuksen kesto: klo 12.00 – 13.30 \nOpastuksen hinta: 15€ Aikuinen; 7\,50€ lapsi (7-18v). \nIlmoittautuminen: Ilmoittautudu mukaan Hangon lintuaseman verkkokaupassa\, osallistumismaksu maksettava ilmoittautumisen yhteydessä. Koska verkkokaupassa on saatavilla useita retkiä\, muistathan valita oikean päivämäärän! \nLisätietoja: Opastetut kierrosket Hangon lintuasemalla \nTiedustelut: opastukset(ät)halias.fi
URL:https://tringa.fi/tapahtuma/opastettu-kierros-hangon-lintuasemalla-2/
CATEGORIES:Hangon lintuaseman opastukset,Retket
ORGANIZER;CN="Hangon lintuasema":MAILTO:opastukset@halias.fi
END:VEVENT
BEGIN:VEVENT
DTSTART;TZID=Europe/Helsinki:20230416T090000
DTEND;TZID=Europe/Helsinki:20230416T120000
DTSTAMP:20260423T105851
CREATED:20230214T203153Z
LAST-MODIFIED:20230214T212602Z
UID:20840-1681635600-1681646400@tringa.fi
SUMMARY:Aamupäivä Hangon lintuasemalla - opastus lintuharrastajille
DESCRIPTION:Lähde Hangon lintuasemalle seuraamaan lintujen kevätmuuttoa! Aamupäivä vietetään lintuaseman oppaan seurassa yhdellä maamme tunnetuimmista lintupaikoista kevään muuttolintuja havainnoiden ja lintujen määritykseen keskittyen. Opastus kestää noin 3 tuntia ja mukaan mahtuu 10 lintuharrastajaa. \nOppaana: Aki Aintila \nKokoontuminen: Tulliniemen luontopolun eteläpään näköalakalliolla paikalla\, jossa kaksi retkipöytää. Tapaamispaikalle on luontopolun alusta noin 3\,7 kilometrin kävelymatka. Näköalapaikka kartalla: Uddskatanin näköalapaikka \nOpastuksen kesto: klo 9.00 – 12.00 \nOpastuksen hinta: 30€ Aikuinen; 15€ lapsi (7-18v). \nIlmoittautuminen: Ilmoittautudu mukaan Hangon lintuaseman verkkokaupassa\, osallistumismaksu maksettava ilmoittautumisen yhteydessä. Koska verkkokaupassa on saatavilla useita retkiä\, muistathan valita oikean päivämäärän! \nLisätietoja: Aamupäivä Hangon lintuasemalla -opastus lintuharrastajille \nTiedustelut: opastukset(ät)halias.fi
URL:https://tringa.fi/tapahtuma/aamupaiva-hangon-lintuasemalla-opastus-lintuharrastajille/
CATEGORIES:Hangon lintuaseman opastukset,Retket
ORGANIZER;CN="Hangon lintuasema":MAILTO:opastukset@halias.fi
END:VEVENT
BEGIN:VEVENT
DTSTART;TZID=Europe/Helsinki:20230423T090000
DTEND;TZID=Europe/Helsinki:20230423T120000
DTSTAMP:20260423T105851
CREATED:20230214T203536Z
LAST-MODIFIED:20230214T212710Z
UID:20842-1682240400-1682251200@tringa.fi
SUMMARY:Aamupäivä Hangon lintuasemalla - opastus lintuharrastajille
DESCRIPTION:Lähde Hangon lintuasemalle seuraamaan lintujen kevätmuuttoa! Aamupäivä vietetään lintuaseman oppaan seurassa yhdellä maamme tunnetuimmista lintupaikoista kevään muuttolintuja havainnoiden ja lintujen määritykseen keskittyen. Opastus kestää noin 3 tuntia ja mukaan mahtuu 10 lintuharrastajaa. \n\n\n\n\n\nOppaana: Aki Aintila \nKokoontuminen: Tulliniemen luontopolun eteläpään näköalakalliolla paikalla\, jossa kaksi retkipöytää. Tapaamispaikalle on luontopolun alusta noin 3\,7 kilometrin kävelymatka. Näköalapaikka kartalla: Uddskatanin näköalapaikka \nOpastuksen kesto: klo 9.00 – 12.00 \nOpastuksen hinta: 30€ Aikuinen; 15€ lapsi (7-18v). \nIlmoittautuminen: Ilmoittautudu mukaan Hangon lintuaseman verkkokaupassa\, osallistumismaksu maksettava ilmoittautumisen yhteydessä. Koska verkkokaupassa on saatavilla useita retkiä\, muistathan valita oikean päivämäärän! \nLisätietoja: Aamupäivä Hangon lintuasemalla -opastus lintuharrastajille \nTiedustelut: opastukset(ät)halias.fi
URL:https://tringa.fi/tapahtuma/aamupaiva-hangon-lintuasemalla-opastus-lintuharrastajille-2/
CATEGORIES:Hangon lintuaseman opastukset,Retket
ORGANIZER;CN="Hangon lintuasema":MAILTO:opastukset@halias.fi
END:VEVENT
BEGIN:VEVENT
DTSTART;TZID=Europe/Helsinki:20230430T090000
DTEND;TZID=Europe/Helsinki:20230430T120000
DTSTAMP:20260423T105851
CREATED:20230415T141248Z
LAST-MODIFIED:20230415T141248Z
UID:21636-1682845200-1682856000@tringa.fi
SUMMARY:Aamupäivä Hangon lintuasemalla - opastus lintuharrastajille
DESCRIPTION:Lähde Hangon lintuasemalle seuraamaan lintujen kevätmuuttoa! Aamupäivä vietetään lintuaseman oppaan seurassa yhdellä maamme tunnetuimmista lintupaikoista kevään muuttolintuja havainnoiden ja lintujen määritykseen keskittyen. Opastus kestää noin 3 tuntia ja mukaan mahtuu 10 lintuharrastajaa. \n\n\n\n\n\nOppaana: Aki Aintila \nKokoontuminen: Tulliniemen luontopolun eteläpään näköalakalliolla paikalla\, jossa kaksi retkipöytää. Tapaamispaikalle on luontopolun alusta noin 3\,7 kilometrin kävelymatka. Näköalapaikka kartalla: Uddskatanin näköalapaikka \nOpastuksen kesto: klo 9.00 – 12.00 \nOpastuksen hinta: 30€ Aikuinen; 15€ lapsi (7-18v). \nIlmoittautuminen: Ilmoittautudu mukaan Hangon lintuaseman verkkokaupassa\, osallistumismaksu maksettava ilmoittautumisen yhteydessä. Koska verkkokaupassa on saatavilla useita retkiä\, muistathan valita oikean päivämäärän! \nLisätietoja: Aamupäivä Hangon lintuasemalla -opastus lintuharrastajille \nTiedustelut: opastukset(ät)halias.fi
URL:https://tringa.fi/tapahtuma/aamupaiva-hangon-lintuasemalla-opastus-lintuharrastajille-3/
CATEGORIES:Hangon lintuaseman opastukset,Retket
ORGANIZER;CN="Hangon lintuasema":MAILTO:opastukset@halias.fi
END:VEVENT
END:VCALENDAR