BEGIN:VCALENDAR
VERSION:2.0
PRODID:-//Uudenmaan lintuharrastajien oma yhdistys - ECPv6.15.20//NONSGML v1.0//EN
CALSCALE:GREGORIAN
METHOD:PUBLISH
X-ORIGINAL-URL:https://tringa.fi
X-WR-CALDESC:Events for Uudenmaan lintuharrastajien oma yhdistys
REFRESH-INTERVAL;VALUE=DURATION:PT1H
X-Robots-Tag:noindex
X-PUBLISHED-TTL:PT1H
BEGIN:VTIMEZONE
TZID:Europe/Helsinki
BEGIN:DAYLIGHT
TZOFFSETFROM:+0200
TZOFFSETTO:+0300
TZNAME:EEST
DTSTART:20250330T010000
END:DAYLIGHT
BEGIN:STANDARD
TZOFFSETFROM:+0300
TZOFFSETTO:+0200
TZNAME:EET
DTSTART:20251026T010000
END:STANDARD
BEGIN:DAYLIGHT
TZOFFSETFROM:+0200
TZOFFSETTO:+0300
TZNAME:EEST
DTSTART:20260329T010000
END:DAYLIGHT
BEGIN:STANDARD
TZOFFSETFROM:+0300
TZOFFSETTO:+0200
TZNAME:EET
DTSTART:20261025T010000
END:STANDARD
BEGIN:DAYLIGHT
TZOFFSETFROM:+0200
TZOFFSETTO:+0300
TZNAME:EEST
DTSTART:20270328T010000
END:DAYLIGHT
BEGIN:STANDARD
TZOFFSETFROM:+0300
TZOFFSETTO:+0200
TZNAME:EET
DTSTART:20271031T010000
END:STANDARD
END:VTIMEZONE
BEGIN:VEVENT
DTSTART;TZID=Europe/Helsinki:20260305T180000
DTEND;TZID=Europe/Helsinki:20260305T200000
DTSTAMP:20260421T024807
CREATED:20260113T215309Z
LAST-MODIFIED:20260113T215309Z
UID:31976-1772733600-1772740800@tringa.fi
SUMMARY:Maaliskuun lintuilta
DESCRIPTION:Tervetuloa Tringan maaliskuun lintuiltaan! \nOhjelma: Aapo Salmelan esitys “Lintuatlas 2022-2025 – Mitä yli kahden miljoonan havainnon hanke kertoo linnustomme muutoksista?”\nAika: torstai 5. maaliskuuta klo 18-20.\nPaikka: Tieteiden talo\, Cedercreutz-sali. Kirkkokatu 6\, Helsinki.\nKenelle: Tringan lintuillat sopivat kaikille linnuista ja lintuharrastuksesta kiinnostuneille. Vapaa pääsy. \nSuomen pesimälinnuston levinneisyys kartoitettiin vuosina 2022–2025 Suomen neljännessä lintuatlaksessa. Mitä yli kahden miljoonan havainnon hanke kertoo linnustomme muutoksista? BirdLife Suomen lintuatlaskoordinaattori ja suojeluasiantuntija Aapo Salmela kertoo atlaksen alustavista tuloksista. \nTiedustelut: toimisto(ät)tringa.fi
URL:https://tringa.fi/tapahtuma/maaliskuun-lintuilta-2/
LOCATION:Tieteiden talo\, Kirkkokatu 6\, Helsinki\, 00170\, Suomi
CATEGORIES:Esitelmät,Lintuilta
END:VEVENT
BEGIN:VEVENT
DTSTART;TZID=Europe/Helsinki:20260323T183000
DTEND;TZID=Europe/Helsinki:20260323T200000
DTSTAMP:20260421T024807
CREATED:20260305T134636Z
LAST-MODIFIED:20260305T142416Z
UID:32656-1774290600-1774296000@tringa.fi
SUMMARY:Tringan nuorten tapaaminen
DESCRIPTION:Tervetuloa Tringan nuorten tapaamiseen maanantaina 23. maaliskuuta klo 18.30-20! \nTapahtuman tavoitteena on tuoda nuoria lintuharrastajia yhteen ja tutustua uusiin harrastajiin\, matalimmalla mahdollisella kynnyksellä. Lisäksi kuullaan mielenkiintoinen lintuesitys! \nOhjelma: Juho Jolkkonen\, ‘1000 lajin vuoristotie – Manu Road Peru\, 2025’ \nPaikka: Leankatu 4 A\, Länsi-Pasila\, Helsinki (oma sisäänkäynti Pasilan aseman puoleisessa nurkassa). \nKenelle: nuorille (n. 12-25-vuotiaille) linnuista ja lintuharrastuksesta kiinnostuneille. Uudet nuoret ovat lämpimästi tervetulleita mukaan! \nLisätietoja: Juho Tirkkonen\, p. 044 305 3928 \nTuliharjakotinga © Juho Jolkkonen
URL:https://tringa.fi/tapahtuma/tringan-nuorten-tapaaminen/
CATEGORIES:Esitelmät,Lasten ja nuorten tapahtumat,Nuorten linturyhmä
END:VEVENT
END:VCALENDAR