BEGIN:VCALENDAR
VERSION:2.0
PRODID:-//Uudenmaan lintuharrastajien oma yhdistys - ECPv6.15.20//NONSGML v1.0//EN
CALSCALE:GREGORIAN
METHOD:PUBLISH
X-WR-CALNAME:Uudenmaan lintuharrastajien oma yhdistys
X-ORIGINAL-URL:https://tringa.fi
X-WR-CALDESC:Events for Uudenmaan lintuharrastajien oma yhdistys
REFRESH-INTERVAL;VALUE=DURATION:PT1H
X-Robots-Tag:noindex
X-PUBLISHED-TTL:PT1H
BEGIN:VTIMEZONE
TZID:Europe/Helsinki
BEGIN:DAYLIGHT
TZOFFSETFROM:+0200
TZOFFSETTO:+0300
TZNAME:EEST
DTSTART:20250330T010000
END:DAYLIGHT
BEGIN:STANDARD
TZOFFSETFROM:+0300
TZOFFSETTO:+0200
TZNAME:EET
DTSTART:20251026T010000
END:STANDARD
BEGIN:DAYLIGHT
TZOFFSETFROM:+0200
TZOFFSETTO:+0300
TZNAME:EEST
DTSTART:20260329T010000
END:DAYLIGHT
BEGIN:STANDARD
TZOFFSETFROM:+0300
TZOFFSETTO:+0200
TZNAME:EET
DTSTART:20261025T010000
END:STANDARD
BEGIN:DAYLIGHT
TZOFFSETFROM:+0200
TZOFFSETTO:+0300
TZNAME:EEST
DTSTART:20270328T010000
END:DAYLIGHT
BEGIN:STANDARD
TZOFFSETFROM:+0300
TZOFFSETTO:+0200
TZNAME:EET
DTSTART:20271031T010000
END:STANDARD
END:VTIMEZONE
BEGIN:VEVENT
DTSTART;TZID=Europe/Helsinki:20260426T053000
DTEND;TZID=Europe/Helsinki:20260426T053000
DTSTAMP:20260426T012924
CREATED:20260208T141031Z
LAST-MODIFIED:20260208T141031Z
UID:32280-1777181400-1777181400@tringa.fi
SUMMARY:Lintuopastus Vihdissä Vanjärven lintutornilla
DESCRIPTION:Lintuopastuksissa Tringan opas päivystää ilmoitetulla paikalla ja auttaa lintujen löytämisessä ja tunnistamisessa ja näyttää lintuja kaukoputkesta. Lintuopastukset soveltuvat hyvin aloitteleville lintuharrastajille. Oppaalta voi kysyä linnuista\, lintuharrastuksesta ja Tringan toiminnasta. \nVihdissä sijaitseva Vanjärvi on valtakunnallisesti ja jopa kansainvälisesti arvokas lintujärvi\, jonka lajisto on poikkeuksellisen runsas. Vanjärvi kuuluu EU:n Natura-suojelualueverkostoon sekä valtakunnalliseen lintuvesien suojeluohjelmaan ja on lisäksi osa Uudenmaan ympäristökeskuksen perustamaa noin 130 hehtaarin suuruista luonnonsuojelualuetta. Järvi on hyvä lintujentarkkailupaikka etenkin keväällä. Järjellä viivähtää silloin isot määrät harmaahanhia\, pääosin metsä- ja tundrahanhia. Lisäksi voi nähdä huomattavan määrän joutsenia\, muita sorsalintuja ja myös kahlaajia. Petolintujakin on mahdollisuus suotuisan sään sattuessa havaita monipuolisesti. \nVanjärven lintutorni kartalla \nTapahtuma on avoin kaikille. Ei ilmoittautumista. \nLintuopastuksessa on säävaraus. Katso mahdolliset viime hetken muutokset Tringan verkkosivujen tapahtumakalenterista. \nTringalla on jäsenilleen käytössä kolme yhdistyskaukoputkea ja viidet kiikarit. Tringan jäsenet voivat lainata kaukoputkia ja kiikareita maksutta kerralla enintään kolmeksi päiväksi. Näitä voi myös varata etukäteen. Kaksi kaukoputkista sijaitsee Helsingin Viikissä Lintuvarusteessa (Koetilantie 1 B 5) ja yksi Ruoholahdessa Foto Fennicassa (Itämerenkatu 16). Kiikarit sijaitsevat Lintuvarusteessa ja Foto Fennicassa. Kaukoputkien ja kiikareiden varaustilannetta voi tiedustella soittamalla Lintuvarusteeseen tai Foto Fennicaan tai kysymällä paikan päällä. Kaukoputkea tai kiikareita lainatessa kannattaa varautua esittämään henkilöllisyystodistus. Lainakaukoputkea ja -kiikareita tulee kohdella erityisellä varovaisuudella\, ja mahdollisista vioista kertoa heti niitä palauttaessa. \nTiedustelut: opastuksetÄTtringa.fi
URL:https://tringa.fi/tapahtuma/lintuopastus-vihdissa-vanjarven-lintutornilla/
CATEGORIES:Torniopastus
END:VEVENT
BEGIN:VEVENT
DTSTART;TZID=Europe/Helsinki:20260426T070000
DTEND;TZID=Europe/Helsinki:20260426T110000
DTSTAMP:20260426T012924
CREATED:20260113T134303Z
LAST-MODIFIED:20260423T104225Z
UID:30412-1777186800-1777201200@tringa.fi
SUMMARY:Hanikan luontopolun retki KLO 8-
DESCRIPTION:PÄIVITYS 23.4. Retki alkaa ennakkotiedoista poiketen klo 8 (eikä klo 7) ja päättyy viimeistään klo 12. \nHanikan luontopolku vie kulkijan Espoon Soukan seudun merenläheisiin maisemiin. Alueen luonto on moni-ilmeistä aina tervalepikoista kalliomänniköihin ja kuusivaltaisiin sekametsiin. Reitti kulkee vaihtelevassa maastossa pitkospuilla\, metsissä ja kallionlailla. Retkellä käydään lintutornisssa. Kävelyä kertyy noin 5 km. \n\n\nRetkelle tulee ilmoittautua (ks. alempana). \n\nKatso retkitiedot tapahtumakalenterista vielä retkeä edeltävänä iltana mahdollisten viime hetken muutosten varalta. Lue retkiohjeita myös täältä: \nRetkiohjeita \nKenelle: Retki on vain Tringan jäsenille\, enintään 14 osallistujaa \nRetkimaksu: 22 €. Retkimaksu sisältää opastuksen ja tapaturmavakuutuksen retken ajan.  \nOppaana: Juha Ojala \nRetken lähtö klo 8 \, Alatörmä/Soukan kuntoportaiden vieressä oleva pysäköintialue. Soukan metroasemalta noin 1 km.\nLähtöpaikka kartalla \nRetken päättyminen viimeistään klo 12 \nIlmoittautuminen ja retkimaksu alkaen  1.3. klo 9\, viimeistään 18.4. seuraavan linkin kautta: \nhttps://tringa.tapahtumiin.fi/fi/events/e/hanikan-luontopolun-retki/69663f3f878ae811288b4567 \nIlmoittautumisen peruminen: Lähetä peruutuksesta sähköposti: opastuksetÄTtringa.fi \nMikäli perut osallistumisesi viimeistään 18.4.\, sinulle palautetaan maksamasi retkimaksu – (miinus) 15 euroa. \nMikäli perut osallistumisesi 19.4. tai sen jälkeen tai et tule retkelle\, jolle olet ilmoittautunut\, retkimaksua ei palauteta. \nIlmoittautuminen jonoon: Mikäli retki on varattu täyteen ja haluat ilmoittautua jonoon\, lähetä sähköposti: opastuksetÄTtringa.fi. Ilmoita jonovarauksen yhteydessä puhelinnumerosi. \n\nTiedustelut: opastuksetÄTtringa.fi \nVoit antaa retkestä palautetta: retkipalautelomake. Palautteista on paljon hyötyä Tringan tulevien tapahtumien suunnittelussa.
URL:https://tringa.fi/tapahtuma/hanikan-luontopolun-retki/
CATEGORIES:Retket
END:VEVENT
BEGIN:VEVENT
DTSTART;TZID=Europe/Helsinki:20260426T090000
DTEND;TZID=Europe/Helsinki:20260426T120000
DTSTAMP:20260426T012924
CREATED:20260308T162613Z
LAST-MODIFIED:20260308T162613Z
UID:32683-1777194000-1777204800@tringa.fi
SUMMARY:Aamupäivä Hangon lintuasemalla - opastus lintuharrastajille
DESCRIPTION:Lähde Hangon lintuasemalle seuraamaan lintujen kevätmuuttoa! Aamupäivä vietetään lintuaseman oppaan seurassa yhdellä maamme tunnetuimmista lintupaikoista kevään muuttolintuja havainnoiden ja lintujen määritykseen keskittyen. Opastus kestää noin 3 tuntia ja mukaan mahtuu 12 lintuharrastajaa. \n\n\n\n\n\nOppaana: Aki Aintila \nKokoontuminen: Tulliniemen luontopolun eteläpään näköalakalliolla paikalla\, jossa kaksi retkipöytää. Tapaamispaikalle on luontopolun alusta noin 3\,7 kilometrin kävelymatka. Näköalapaikka kartalla: Uddskatanin näköalapaikka \nOpastuksen kesto: klo 9.00 – 12.00 \nOpastuksen hinta: 35€ Aikuinen; 17\,50€ lapsi (7-18v). \nIlmoittautuminen: Ilmoittautudu mukaan Hangon lintuaseman verkkokaupassa\, osallistumismaksu maksettava ilmoittautumisen yhteydessä. Koska verkkokaupassa on saatavilla useita retkiä\, muistathan valita oikean päivämäärän! \nLisätietoja: Aamupäivä Hangon lintuasemalla -opastus lintuharrastajille \nTiedustelut: opastukset(ät)halias.fi
URL:https://tringa.fi/tapahtuma/aamupaiva-hangon-lintuasemalla-opastus-lintuharrastajille-32/
CATEGORIES:Hangon lintuaseman opastukset
END:VEVENT
BEGIN:VEVENT
DTSTART;TZID=Europe/Helsinki:20260426T090000
DTEND;TZID=Europe/Helsinki:20260426T160000
DTSTAMP:20260426T012924
CREATED:20251230T171432Z
LAST-MODIFIED:20260424T133424Z
UID:31895-1777194000-1777219200@tringa.fi
SUMMARY:Porkkalan lintuviikko: Rönnskärin retki PERUTTU!
DESCRIPTION:[Päivitys 24.4.: retki on jouduttu perumaan. Ilmoittautuneille on lähetetty lisätietoja sähköpostilla.]  \nRönnskärin retki päättää Tringan ja Kirkkonummen Ympäristöyhdistyksen järjestämän Porkkalan lintuviikon. \nPorkkalan lintuviikon koko ohjelma \nRönnskär on Puolustusvoimien vartiolinnake ja siten sotilasaluetta\, jolle yleisö pääsee vain rajoitetusti. Saari sijaitsee noin 3 kilometriä Porkkalanniemen kärjestä etelään.  Saarella on toinen Tringan alueen lintuasemista\, Rönski. (Hangon lintuasema\, Halias\, on se toinen.) Rönski on lintumuuton seurannan kannalta ihanteellisella paikalla. \nRönnskärin päiväretkellä tarjoutuu hieno tilaisuus päästä tutustumaan lintuasemaelämään ja Rönnskärin majakkasaareen. Retken oppaista toinen\, valokuvaaja\, saaristo-opas Tommi Heinonen kertoilee retkellä myös saaren historiasta. Rönnskärissä on tehty Metsähallituksen toimesta hallittuja harvennushakkuita\, jotta saari palautuisi entiseen biologiseen asuunsa kasviston ja eläimistön puolesta. Tästäkin aiheesta on retkellä luvassa tietoa. Retkellä on mahdollisesti – säästä ja rengastajien läsnäolosta riippuen – tilaisuus seurata myös lintujen rengastusta. \nRetki alkaa Porkkala Marinasta. Satamasta matka jatkuu tilausveneellä Rönnskärin saarelle\, jossa vietetään noin 5 tuntia. Ota matkaan riittävästi eväitä koko retkipäivän tarpeiksi. Juomavesi tulee myös ottaa mukaan. Lintuasemarakennus ei ole retkeläisten käytettävissä retken aikana. \nKoska saarta lähialueineen hallinnoi Puolustusvoimat\, liikkuminen alueella on rajoitettua ja vaatii aina kulkuluvan.  Ilmoittautumisen yhteydessä kysytäänkin henkilötietoja kulkulupaa varten. Ota retkelle mukaan voimassa oleva virallinen henkilöllisyystodistus. Ilman henkilöllisyystodistusta et pääse saareen. Ilmoittautuneille lähetetään lisätietoja retkestä. \nKirkkonummen asemalta on mahdollisuus päästä Porkkalan satamaan tilaustaksilla\, jonka hinta määräytyy matkustajamäärän mukaan. Yhdensuuntainen kuljetus maksaa noin 70 €\, tämä jaetaan kyytiläisten kesken. Ilmoita halukkuutesi taksikyytiin: opastuksetÄTtringa.fi \nRetkellä on säävaraus. Mikäli tuuli on liian voimakas venekuljetukseen\, retki peruuntuu. Sade ei sen sijaan vaikuta siihen toteutuuko retki vai ei. \nLue lisätietoja Tringan retkistä täältä: \n \nKenelle: Retki on vain Tringan ja Kirkkonummen ympäristöyhdistyksen jäsenille sekä Porkkalan lintuviikon työntekijöille riippumatta siitä\, kuuluvatko he Tringaan tai KYYhyn. Osallistujan tulee olla Suomen kansalainen. Enintään 30 osallistujaa. \nOppaana: Nico Niemenmaa ja Tommi Heinonen \nRetkimaksu: 79 €/65 € (Porkkalan lintuviikon työntekijät). Maksu sisältää opastuksen\, edestakaisen kuljetuksen  tilausveneellä\, tapaturmavakuutuksen retken ajan. \nRetken lähtö: Klo 9\, Porkkala Marina\, Dragetintie 108\, 02400 Kirkkonummi. Ole paikalla klo 8.45. \nLähtöpaikka kartalla \nRetken päättyminen: Paluuvene Rönnskäriltä klo 15\, Porkkalan satamassa ollaan klo 16 mennessä. \nIlmoittautuminen:  \nPLV:n työntekijät sähköpostilla 26.2. mennessä: opastuksetÄTtringa.fi \nTringan ja KYYn jäsenet: ilmoittautuminen ja retkimaksu alkaen 1.3. klo 9\, viimeistään 11.4.: \nhttps://tringa.tapahtumiin.fi/fi/events/e/ronnskarin-retki/69a2ccee3b046142338b4578 \nMikäli perut osallistumisesi viimeistään 11.4.\, sinulle palautetaan maksamasi retkimaksu – (miinus) 15 euroa. \nMikäli perut osallistumisesi 12.4. tai sen jälkeen tai et tule retkelle\, jolle olet ilmoittautunut\, retkimaksua ei palauteta. \nJos retki perutaan\, sinulle palautetaan koko retkimaksu. \nIlmoittautuminen jonoon: Mikäli retki on varattu täyteen ja haluat ilmoittautua jonoon\, lähetä sähköposti: opastuksetÄTtringa.fi. Jonoon ei voi ilmoittautua eikä jonosta pääse mukaan retkelle enää  11.4. jälkeen kulkulupahakemusten aikataulun vuoksi. \nTiedustelut: opastuksetÄTtringa.fi \nRetkipalaute: Voit antaa retkipalautetta verkkolomakkeella: retkipalautelomake. Palautteista on paljon hyötyä tulevien retkien suunnittelussa.
URL:https://tringa.fi/tapahtuma/ronnskarin-retki-2/
CATEGORIES:Retket
END:VEVENT
BEGIN:VEVENT
DTSTART;TZID=Europe/Helsinki:20260426T100000
DTEND;TZID=Europe/Helsinki:20260426T130000
DTSTAMP:20260426T012924
CREATED:20260127T182319Z
LAST-MODIFIED:20260127T182551Z
UID:32162-1777197600-1777208400@tringa.fi
SUMMARY:Laajalahden lintuopastus Elfvikin lintutornilla
DESCRIPTION:Tringan opas päivystää lintutornilla klo 10-13. Opas auttaa lintujen löytämisessä ja tunnistamisessa ja näyttää lintuja kaukoputkesta. Oppaalta voi kysyä linnuista\, lintuharrastuksesta ja Tringan toiminnasta. Torniopastukset soveltuvat hyvin myös aloitteleville lintuharrastajille.  Ota omat kiikarit mukaan\, jos sinulla sellaiset on. \nVilla Elfvikin lintutorni  on oivallinen paikka Laajalahden lintujen tarkkailuun. Lintutorni sijaitsee noin 700 metrin mittaisen Villa Elfvikin luontopolun varrella. Tornin vieressä on retkipöytä eväiden syömistä varten. Luontopolku on esteetön. Tornin ensimmäiselle tasolle pääsee myös pyörätuolilla tai lastenrattaiden kanssa. Laajalahden luonnonsuojelualue on osa Natura 2000 -verkostoa ja yksi Suomen merkittävimpiä lintukosteikoita.  Parkkipaikka löytyy osoitteesta Elfvikintie 4. Laajalahdelle pääsee helposti myös julkisilla\, sillä pikaratikka 15:lla on pysäkki Lahdenpohjassa. Pysäkiltä on matkaa Villa Elfvikin luontotalolle noin 800 metriä. Kehä I:n varrella on myös useita bussipysäkkejä\, joilta pääsee kävellen Laajalahdelle. \nOpastuspaikka kartalla. \nEi ilmoittautumista. \nLintuopastuksessa on säävaraus. Katso mahdolliset viime hetken muutokset Tringan tapahtumakalenterista. \nTiedustelut: opastuksetÄTtringa.fi \nPalaute: Voit antaa opastuksesta palautetta verkkolomakkeella: retkipalautelomake. Palautteista on paljon hyötyä tulevien tapahtumien suunnittelussa.
URL:https://tringa.fi/tapahtuma/32162/
CATEGORIES:Torniopastus
END:VEVENT
BEGIN:VEVENT
DTSTART;TZID=Europe/Helsinki:20260426T120000
DTEND;TZID=Europe/Helsinki:20260426T150000
DTSTAMP:20260426T012924
CREATED:20260318T011330Z
LAST-MODIFIED:20260318T011407Z
UID:32810-1777204800-1777215600@tringa.fi
SUMMARY:Porkkalan lintuviikko: Queer-retki Porkkalanniemessä
DESCRIPTION:Tule mukaan queer-linturetkelle – olitpa sitten kokenut lintuharrastaja tai vasta-alkaja! \nPäivämäärä: su 26.4.2026\nAika: 12–15\nPaikka: Porkkalanniemi\, Lähteelä\nVapaa pääsy\nIlmoittaudu viimeistään 19.4.2025 \nTervetuloa oppimaan luonnosta ja ympäristöpolitiikasta sekä nauttimaan retkeilystä sateenkaarisensitiivisessä seurassa! Tapahtumassa ei oleteta osallistujilla olevan  ennakkotietoja linnuista tai ympäristöpolitiikasta. Retkelle osallistumiseen riittää kiinnostus tutustua lintuihin tai ympäristöpolitiikkaan. Retkellä on mahdollisuus pohtia queer-näkökulmia ympäristöpolitiikkaan ja lintuihin liittyen queer-turvallisessa seurassa. \nTapahtuman kielenä on englanti ja suomi\, ja paikalla on ihmisiä\, jotka voivat auttaa kielen kanssa tarvittaessa. \nSäänmukainen pukeutuminen (muista myös hyvät kengät!). Porkkalanniemessä sää voi olla hyvin kylmä ja tuulinen\, ja kalliot voivat olla liukkaita. Ota huomioon pukeutumisessa myös punkit\, joita on alueella. Jos sinulla on kiikarit tai kaukoputki\, ota ne mukaan. Tapahtumassa on myös lainakiikareita. \nPaikalle pääsemiseen tarvitaan auto. Järjestämme myös kimppakyytiryhmän Whatsappissa niille\, jotka haluvat sopia yhteisistä kyydeistä. \nIlmoittautuminen päättyy 19.4.\, jonka jälkeen lähetämme sinulle sähköpostitse tarkemman tapaamispaikan. Jos joudut perumaan osallistumisesi\, ilmoitathan siitä meille etukäteen mahdollisimman pian! \nILMOITTAUTUDU TÄÄLLÄ \nTapahtuman järjestävät yhteistyössä Kirkkonummen ympäristöyhdistys\, Tringa ja Luontoliitto. Sommer Ackerman on Isosta-Britanniasta kotoisin oleva queer-lintuharrastaja\, joka asuu Helsingissä. Hän toimii Politiikkaryhmän koordinaattorina Luontoliitossa. \nEsteettömyys: Retkellä on mahdollisuus edetä hiekkateitä pitkin. Nämä ovat esteettömiä lukuun ottamatta mahdollista lunta tai jäätä. Lisäksi halukkaat voivat vierailla lintutornissa\, jonne täytyy kulkea lyhyt matka metsäpolkua ja kiivetä rappusia. \nLisätietoja Porkkalan lintuviikosta: porkkalanlintuviikko.fi/
URL:https://tringa.fi/tapahtuma/porkkalan-lintuviikko-queer-retki-porkkalanniemessa/
CATEGORIES:Retket
END:VEVENT
END:VCALENDAR